BEGIN:VCALENDAR
VERSION:2.0
PRODID:-//Old Orchard Beach ME - ECPv6.15.17//NONSGML v1.0//EN
CALSCALE:GREGORIAN
METHOD:PUBLISH
X-ORIGINAL-URL:https://www.oobmaine.com
X-WR-CALDESC:Events for Old Orchard Beach ME
REFRESH-INTERVAL;VALUE=DURATION:PT1H
X-Robots-Tag:noindex
X-PUBLISHED-TTL:PT1H
BEGIN:VTIMEZONE
TZID:America/New_York
BEGIN:DAYLIGHT
TZOFFSETFROM:-0500
TZOFFSETTO:-0400
TZNAME:EDT
DTSTART:20240310T070000
END:DAYLIGHT
BEGIN:STANDARD
TZOFFSETFROM:-0400
TZOFFSETTO:-0500
TZNAME:EST
DTSTART:20241103T060000
END:STANDARD
BEGIN:DAYLIGHT
TZOFFSETFROM:-0500
TZOFFSETTO:-0400
TZNAME:EDT
DTSTART:20250309T070000
END:DAYLIGHT
BEGIN:STANDARD
TZOFFSETFROM:-0400
TZOFFSETTO:-0500
TZNAME:EST
DTSTART:20251102T060000
END:STANDARD
BEGIN:DAYLIGHT
TZOFFSETFROM:-0500
TZOFFSETTO:-0400
TZNAME:EDT
DTSTART:20260308T070000
END:DAYLIGHT
BEGIN:STANDARD
TZOFFSETFROM:-0400
TZOFFSETTO:-0500
TZNAME:EST
DTSTART:20261101T060000
END:STANDARD
END:VTIMEZONE
BEGIN:VEVENT
DTSTART;TZID=America/New_York:20250505T180000
DTEND;TZID=America/New_York:20250505T180000
DTSTAMP:20260425T071325
CREATED:20250425T173554Z
LAST-MODIFIED:20250425T173554Z
UID:20483-1746468000-1746468000@www.oobmaine.com
SUMMARY:Design Review Committee Meeting 05.05.2025
DESCRIPTION:
URL:https://www.oobmaine.com/event/design-review-committee-meeting-05-05-2025/
LOCATION:Town Hall Council Chambers\, 1 Portland Ave\, Old orchard Beach\, ME\, 04064\, United States
CATEGORIES:Design Review Board,Home Commitee,Public Meeting
END:VEVENT
BEGIN:VEVENT
DTSTART;TZID=America/New_York:20250506T183000
DTEND;TZID=America/New_York:20250506T183000
DTSTAMP:20260425T071325
CREATED:20250502T193058Z
LAST-MODIFIED:20250502T193757Z
UID:20514-1746556200-1746556200@www.oobmaine.com
SUMMARY:Town Council Meeting
DESCRIPTION:
URL:https://www.oobmaine.com/event/town-council-meeting-22/
LOCATION:Town Hall Council Chambers\, 1 Portland Ave\, Old orchard Beach\, ME\, 04064\, United States
CATEGORIES:Home Meeting,Town Council
END:VEVENT
BEGIN:VEVENT
DTSTART;TZID=America/New_York:20250507T180000
DTEND;TZID=America/New_York:20250507T180000
DTSTAMP:20260425T071325
CREATED:20250505T162357Z
LAST-MODIFIED:20250505T162516Z
UID:20517-1746640800-1746640800@www.oobmaine.com
SUMMARY:Town Council Workshop - Budget
DESCRIPTION:
URL:https://www.oobmaine.com/event/town-council-workshop-budget-6/
LOCATION:Town Hall Council Chambers\, 1 Portland Ave\, Old orchard Beach\, ME\, 04064\, United States
CATEGORIES:Home Meeting,Town Council
END:VEVENT
BEGIN:VEVENT
DTSTART;TZID=America/New_York:20250508T183000
DTEND;TZID=America/New_York:20250508T183000
DTSTAMP:20260425T071325
CREATED:20250425T143654Z
LAST-MODIFIED:20250425T143654Z
UID:20480-1746729000-1746729000@www.oobmaine.com
SUMMARY:Planning Board Meeting 05.08.2025
DESCRIPTION:
URL:https://www.oobmaine.com/event/planning-board-meeting-05-08-2025/
LOCATION:Town Hall Council Chambers\, 1 Portland Ave\, Old orchard Beach\, ME\, 04064\, United States
CATEGORIES:Home Board,Planning Board,Public Meeting
END:VEVENT
BEGIN:VEVENT
DTSTART;TZID=America/New_York:20250512T190000
DTEND;TZID=America/New_York:20250512T230000
DTSTAMP:20260425T071325
CREATED:20250506T170050Z
LAST-MODIFIED:20250506T170050Z
UID:20524-1747076400-1747090800@www.oobmaine.com
SUMMARY:Conservation Commission Meeting 05.12.2025
DESCRIPTION:
URL:https://www.oobmaine.com/event/conservation-commission-meeting-05-12-2025/
LOCATION:Town Hall Council Chambers\, 1 Portland Ave\, Old orchard Beach\, ME\, 04064\, United States
CATEGORIES:Conservation Commission,Home Meeting,Public Meeting
END:VEVENT
BEGIN:VEVENT
DTSTART;TZID=America/New_York:20250520T183000
DTEND;TZID=America/New_York:20250520T183000
DTSTAMP:20260425T071325
CREATED:20250516T195148Z
LAST-MODIFIED:20250516T195253Z
UID:20608-1747765800-1747765800@www.oobmaine.com
SUMMARY:Town Council Regular Meeting
DESCRIPTION:
URL:https://www.oobmaine.com/event/town-council-regular-meeting-31/
LOCATION:Town Hall Council Chambers\, 1 Portland Ave\, Old orchard Beach\, ME\, 04064\, United States
CATEGORIES:Home Meeting,Town Council
END:VEVENT
BEGIN:VEVENT
DTSTART;TZID=America/New_York:20250521T160000
DTEND;TZID=America/New_York:20250521T160000
DTSTAMP:20260425T071325
CREATED:20250515T181638Z
LAST-MODIFIED:20250515T181638Z
UID:20604-1747843200-1747843200@www.oobmaine.com
SUMMARY:Veteran's Memorial Park Sub-Committee Meeting 05.21.2025
DESCRIPTION:
URL:https://www.oobmaine.com/event/veterans-memorial-park-sub-committee-meeting-05-21-2025/
LOCATION:Libby Memorial LIbrary\, 27 Staples St\, Old Orchard Beach\, ME\, 04064\, United States
CATEGORIES:Conservation Commission,Home Commitee,Public Meeting
END:VEVENT
BEGIN:VEVENT
DTSTART;TZID=America/New_York:20250521T180000
DTEND;TZID=America/New_York:20250521T180000
DTSTAMP:20260425T071325
CREATED:20250519T143438Z
LAST-MODIFIED:20250519T143652Z
UID:20617-1747850400-1747850400@www.oobmaine.com
SUMMARY:Town Council Budget Workshop
DESCRIPTION:
URL:https://www.oobmaine.com/event/town-council-budget-workshop-10/
LOCATION:Town Hall Council Chambers\, 1 Portland Ave\, Old orchard Beach\, ME\, 04064\, United States
CATEGORIES:Home Meeting
END:VEVENT
BEGIN:VEVENT
DTSTART;TZID=America/New_York:20250526T130000
DTEND;TZID=America/New_York:20250526T150000
DTSTAMP:20260425T071325
CREATED:20250310T145303Z
LAST-MODIFIED:20250310T145303Z
UID:20231-1748264400-1748271600@www.oobmaine.com
SUMMARY:Memorial Day Parade 05.26.2025
DESCRIPTION:The annual Memorial Day Parade begins on E. Emerson Cummings Blvd by the Police Station.  The parade starts at 1 p.m.  The route goes down Saco Avenue\, turns right onto Old Orchard Street and right onto First Street into Memorial Park.  Parade participants start gathering at Noon.  FMI:  kmclaughlin@oobmaine.com
URL:https://www.oobmaine.com/event/memorial-day-parade-05-26-2025/
LOCATION:Starting at the Ballpark
END:VEVENT
BEGIN:VEVENT
DTSTART;TZID=America/New_York:20250528T180000
DTEND;TZID=America/New_York:20250528T193000
DTSTAMP:20260425T071325
CREATED:20250523T182041Z
LAST-MODIFIED:20250523T182349Z
UID:20633-1748455200-1748460600@www.oobmaine.com
SUMMARY:Town Council Budget Workshop
DESCRIPTION:
URL:https://www.oobmaine.com/event/town-council-budget-workshop-11/
LOCATION:Town Hall Council Chambers\, 1 Portland Ave\, Old orchard Beach\, ME\, 04064\, United States
CATEGORIES:Home Meeting,Town Council
END:VEVENT
END:VCALENDAR