BEGIN:VCALENDAR
VERSION:2.0
PRODID:-//Old Orchard Beach ME - ECPv6.15.17//NONSGML v1.0//EN
CALSCALE:GREGORIAN
METHOD:PUBLISH
X-ORIGINAL-URL:https://www.oobmaine.com
X-WR-CALDESC:Events for Old Orchard Beach ME
REFRESH-INTERVAL;VALUE=DURATION:PT1H
X-Robots-Tag:noindex
X-PUBLISHED-TTL:PT1H
BEGIN:VTIMEZONE
TZID:America/New_York
BEGIN:DAYLIGHT
TZOFFSETFROM:-0500
TZOFFSETTO:-0400
TZNAME:EDT
DTSTART:20250309T070000
END:DAYLIGHT
BEGIN:STANDARD
TZOFFSETFROM:-0400
TZOFFSETTO:-0500
TZNAME:EST
DTSTART:20251102T060000
END:STANDARD
BEGIN:DAYLIGHT
TZOFFSETFROM:-0500
TZOFFSETTO:-0400
TZNAME:EDT
DTSTART:20260308T070000
END:DAYLIGHT
BEGIN:STANDARD
TZOFFSETFROM:-0400
TZOFFSETTO:-0500
TZNAME:EST
DTSTART:20261101T060000
END:STANDARD
BEGIN:DAYLIGHT
TZOFFSETFROM:-0500
TZOFFSETTO:-0400
TZNAME:EDT
DTSTART:20270314T070000
END:DAYLIGHT
BEGIN:STANDARD
TZOFFSETFROM:-0400
TZOFFSETTO:-0500
TZNAME:EST
DTSTART:20271107T060000
END:STANDARD
BEGIN:DAYLIGHT
TZOFFSETFROM:-0500
TZOFFSETTO:-0400
TZNAME:EDT
DTSTART:20280312T070000
END:DAYLIGHT
BEGIN:STANDARD
TZOFFSETFROM:-0400
TZOFFSETTO:-0500
TZNAME:EST
DTSTART:20281105T060000
END:STANDARD
END:VTIMEZONE
BEGIN:VEVENT
DTSTART;TZID=America/New_York:20260730T214500
DTEND;TZID=America/New_York:20260730T220000
DTSTAMP:20260425T092447
CREATED:20260422T174652Z
LAST-MODIFIED:20260422T174652Z
UID:22202-1785447900-1785448800@www.oobmaine.com
SUMMARY:Palace Playland and the Pier Fireworks Displays on the beach in front of Palace Playland at 9:45 p.m.
DESCRIPTION:There will be fireworks displays on the beach in front of Palace Playland every Thursday night at 9:45 p.m. from June 25th through August 27th.  There will also be fireworks on the 4th of July.
URL:https://www.oobmaine.com/event/palace-playland-and-the-pier-fireworks-displays-on-the-beach-in-front-of-palace-playland-at-945-p-m-6/
LOCATION:Beach in front of Palace Playland\, 1 Old Orchard Street\, Old Orchard Beach\, 04064\, United States
CATEGORIES:Special Event
END:VEVENT
BEGIN:VEVENT
DTSTART;TZID=America/New_York:20260801T140000
DTEND;TZID=America/New_York:20260801T223000
DTSTAMP:20260425T092447
CREATED:20260408T191912Z
LAST-MODIFIED:20260408T191912Z
UID:22129-1785592800-1785623400@www.oobmaine.com
SUMMARY:Ocean Park Association Illumination Night 08.01.2026
DESCRIPTION:OPA will be holding Illumination Night in Ocean Park on Saturday\, August 1st\, from 2 p.m. to 10:30 p.m.
URL:https://www.oobmaine.com/event/ocean-park-association-illumination-night-08-01-2026/
CATEGORIES:Special Event
END:VEVENT
BEGIN:VEVENT
DTSTART;TZID=America/New_York:20260806T214500
DTEND;TZID=America/New_York:20260806T220000
DTSTAMP:20260425T092447
CREATED:20260422T174753Z
LAST-MODIFIED:20260422T174753Z
UID:22203-1786052700-1786053600@www.oobmaine.com
SUMMARY:Palace Playland and the Pier Fireworks Displays on the beach in front of Palace Playland at 9:45 p.m.
DESCRIPTION:There will be fireworks displays on the beach in front of Palace Playland every Thursday night at 9:45 p.m. from June 25th through August 27th.  There will also be fireworks on the 4th of July.
URL:https://www.oobmaine.com/event/palace-playland-and-the-pier-fireworks-displays-on-the-beach-in-front-of-palace-playland-at-945-p-m-7/
LOCATION:Beach in front of Palace Playland\, 1 Old Orchard Street\, Old Orchard Beach\, 04064\, United States
CATEGORIES:Special Event
END:VEVENT
BEGIN:VEVENT
DTSTART;TZID=America/New_York:20260813T160000
DTEND;TZID=America/New_York:20260813T210000
DTSTAMP:20260425T092447
CREATED:20260422T180442Z
LAST-MODIFIED:20260422T180442Z
UID:22209-1786636800-1786654800@www.oobmaine.com
SUMMARY:Chamber of Commerce Beach Olympics
DESCRIPTION:The Chamber of Commerce will be holding Beach Olympics on August 13th\, 14th and 15th.  There will be an opening ceremony with torch lighting\, a juggling act and voluntary tolls at the intersection.
URL:https://www.oobmaine.com/event/chamber-of-commerce-beach-olympics-6/
LOCATION:Square\, beach\, East and West Grand Avenues and Memorial Park
CATEGORIES:Special Event
END:VEVENT
BEGIN:VEVENT
DTSTART;TZID=America/New_York:20260813T214500
DTEND;TZID=America/New_York:20260813T220000
DTSTAMP:20260425T092447
CREATED:20260422T174854Z
LAST-MODIFIED:20260422T174854Z
UID:22204-1786657500-1786658400@www.oobmaine.com
SUMMARY:Palace Playland and the Pier Fireworks Displays on the beach in front of Palace Playland at 9:45 p.m.
DESCRIPTION:There will be fireworks displays on the beach in front of Palace Playland every Thursday night at 9:45 p.m. from June 25th through August 27th.  There will also be fireworks on the 4th of July.
URL:https://www.oobmaine.com/event/palace-playland-and-the-pier-fireworks-displays-on-the-beach-in-front-of-palace-playland-at-945-p-m-8/
LOCATION:Beach in front of Palace Playland\, 1 Old Orchard Street\, Old Orchard Beach\, 04064\, United States
CATEGORIES:Special Event
END:VEVENT
BEGIN:VEVENT
DTSTART;TZID=America/New_York:20260814T100000
DTEND;TZID=America/New_York:20260814T210000
DTSTAMP:20260425T092447
CREATED:20260422T180748Z
LAST-MODIFIED:20260422T180748Z
UID:22210-1786701600-1786741200@www.oobmaine.com
SUMMARY:Chamber of Commerce Beach Olympics
DESCRIPTION:The Chamber of Commerce will be holding Beach Olympics on August 13th\, 14th and 15th.  There will be children’s activities\, live music and voluntary tolls at the intersection.
URL:https://www.oobmaine.com/event/chamber-of-commerce-beach-olympics-7/
LOCATION:Square\, beach\, East and West Grand Avenues and Memorial Park
CATEGORIES:Special Event
END:VEVENT
BEGIN:VEVENT
DTSTART;TZID=America/New_York:20260815T100000
DTEND;TZID=America/New_York:20260815T210000
DTSTAMP:20260425T092447
CREATED:20260422T181912Z
LAST-MODIFIED:20260422T181912Z
UID:22211-1786788000-1786827600@www.oobmaine.com
SUMMARY:Chamber of Commerce Beach Olympics
DESCRIPTION:The Chamber of Commerce will be holding Beach Olympics on August 13th\, 14th and 15th.  There will be children’s activities\, live music and voluntary tolls at the intersection.
URL:https://www.oobmaine.com/event/chamber-of-commerce-beach-olympics-8/
LOCATION:Square\, beach\, East and West Grand Avenues and Memorial Park
CATEGORIES:Special Event
END:VEVENT
BEGIN:VEVENT
DTSTART;TZID=America/New_York:20260820T214500
DTEND;TZID=America/New_York:20260820T220000
DTSTAMP:20260425T092447
CREATED:20260422T174957Z
LAST-MODIFIED:20260422T174957Z
UID:22205-1787262300-1787263200@www.oobmaine.com
SUMMARY:Palace Playland and the Pier Fireworks Displays on the beach in front of Palace Playland at 9:45 p.m.
DESCRIPTION:There will be fireworks displays on the beach in front of Palace Playland every Thursday night at 9:45 p.m. from June 25th through August 27th.  There will also be fireworks on the 4th of July.
URL:https://www.oobmaine.com/event/palace-playland-and-the-pier-fireworks-displays-on-the-beach-in-front-of-palace-playland-at-945-p-m-9/
LOCATION:Beach in front of Palace Playland\, 1 Old Orchard Street\, Old Orchard Beach\, 04064\, United States
CATEGORIES:Special Event
END:VEVENT
BEGIN:VEVENT
DTSTART;TZID=America/New_York:20260827T214500
DTEND;TZID=America/New_York:20260827T220000
DTSTAMP:20260425T092447
CREATED:20260422T175112Z
LAST-MODIFIED:20260422T175112Z
UID:22206-1787867100-1787868000@www.oobmaine.com
SUMMARY:Palace Playland and the Pier Fireworks Displays on the beach in front of Palace Playland at 9:45 p.m.
DESCRIPTION:There will be fireworks displays on the beach in front of Palace Playland every Thursday night at 9:45 p.m. from June 25th through August 27th.  There will also be fireworks on the 4th of July.
URL:https://www.oobmaine.com/event/palace-playland-and-the-pier-fireworks-displays-on-the-beach-in-front-of-palace-playland-at-945-p-m-10/
LOCATION:Beach in front of Palace Playland\, 1 Old Orchard Street\, Old Orchard Beach\, 04064\, United States
CATEGORIES:Special Event
END:VEVENT
BEGIN:VEVENT
DTSTART;TZID=America/New_York:20260918T120000
DTEND;TZID=America/New_York:20260918T200000
DTSTAMP:20260425T092447
CREATED:20251125T145537Z
LAST-MODIFIED:20251125T145627Z
UID:21420-1789732800-1789761600@www.oobmaine.com
SUMMARY:Chamber of Commerce Car Show 09.18.2026 and 9.19.2026
DESCRIPTION:FMI:  www.oldorchardbeachmaine.com
URL:https://www.oobmaine.com/event/chamber-of-commerce-car-show-09-18-2026-and-9-19-2026/
LOCATION:Veterans Memorial Park\, 4 Heath St\, Old Orchard Beach\, ME\, 04064\, United States
CATEGORIES:Special Event
END:VEVENT
BEGIN:VEVENT
DTSTART;TZID=America/New_York:20260919T060000
DTEND;TZID=America/New_York:20260919T170000
DTSTAMP:20260425T092447
CREATED:20251125T145830Z
LAST-MODIFIED:20251125T145830Z
UID:21421-1789797600-1789837200@www.oobmaine.com
SUMMARY:Chamber of Commerce Car Show 09.18.2026 and 09.19.2026
DESCRIPTION:FMI:  www.oldorchardbeachmaine.com
URL:https://www.oobmaine.com/event/chamber-of-commerce-car-show-09-18-2026-and-09-19-2026/
LOCATION:Veterans Memorial Park\, 4 Heath St\, Old Orchard Beach\, ME\, 04064\, United States
CATEGORIES:Special Event
END:VEVENT
BEGIN:VEVENT
DTSTART;TZID=America/New_York:20261011T090000
DTEND;TZID=America/New_York:20261011T130000
DTSTAMP:20260425T092447
CREATED:20260218T131527Z
LAST-MODIFIED:20260218T131527Z
UID:21869-1791709200-1791723600@www.oobmaine.com
SUMMARY:Tony Myatt 10k 10.11.2026
DESCRIPTION:Tony Myatt to hold a 10k on the beach and East Grand Avenue on Sunday\, October 11th\, 2026\, 9:00 am to 1:00 pm. They will race on the beach from the Pier to Pine Point and race back on East Grand Avenue ending in the Square. 
URL:https://www.oobmaine.com/event/tony-myatt-10k-10-11-2026/
LOCATION:Beach from the Pier to Pine Point and back on E. Grand Avenue
CATEGORIES:Special Event
END:VEVENT
BEGIN:VEVENT
DTSTART;TZID=America/New_York:20261231T150000
DTEND;TZID=America/New_York:20261231T210000
DTSTAMP:20260425T092447
CREATED:20241121T153805Z
LAST-MODIFIED:20241121T153805Z
UID:19830-1798729200-1798750800@www.oobmaine.com
SUMMARY:OOB365 Last Blast 12.31.2026
DESCRIPTION:Beach party with bonfire for Christmas trees on the beach in front of the Carousel\, and fireworks around 7:30 p.m. to 7:45 p.m.
URL:https://www.oobmaine.com/event/oob365-last-blast-12-31-2026/
LOCATION:Beach in front of Palace Playland\, 1 Old Orchard Street\, Old Orchard Beach\, 04064\, United States
CATEGORIES:Special Event
END:VEVENT
BEGIN:VEVENT
DTSTART;TZID=America/New_York:20270605T090000
DTEND;TZID=America/New_York:20270605T180000
DTSTAMP:20260425T092447
CREATED:20250527T182037Z
LAST-MODIFIED:20250527T182037Z
UID:20642-1812186000-1812218400@www.oobmaine.com
SUMMARY:OOB365 Scottish Festival
DESCRIPTION:FMI:  www.oob365.com
URL:https://www.oobmaine.com/event/oob365-scottish-festival-3/
LOCATION:Veterans Memorial Park\, 4 Heath St\, Old Orchard Beach\, ME\, 04064\, United States
CATEGORIES:Special Event
END:VEVENT
BEGIN:VEVENT
DTSTART;TZID=America/New_York:20270612T080000
DTEND;TZID=America/New_York:20270612T170000
DTSTAMP:20260425T092447
CREATED:20250527T182703Z
LAST-MODIFIED:20250527T182703Z
UID:20645-1812787200-1812819600@www.oobmaine.com
SUMMARY:OOB365 Back to the Beach Corvette Weekend 06.12.2027
DESCRIPTION:FMI:  www.oob365.com
URL:https://www.oobmaine.com/event/oob365-back-to-the-beach-corvette-weekend-06-12-2027/
LOCATION:Old Orchard Street\, Old Orchard Street\, Old Orchard Beach\, ME\, 04064\, United States
CATEGORIES:Special Event
END:VEVENT
BEGIN:VEVENT
DTSTART;TZID=America/New_York:20271231T150000
DTEND;TZID=America/New_York:20271231T210000
DTSTAMP:20260425T092447
CREATED:20250319T143412Z
LAST-MODIFIED:20250319T143412Z
UID:20315-1830265200-1830286800@www.oobmaine.com
SUMMARY:OOB3265 Fireworks on the beach 12.31.2027
DESCRIPTION:A bonfire for burning Christmas trees and fireworks on the beach.  FMI:  www.oob365.com
URL:https://www.oobmaine.com/event/oob3265-fireworks-on-the-beach-12-31-2027/
LOCATION:Beach in front of Palace Playland\, 1 Old Orchard Street\, Old Orchard Beach\, 04064\, United States
CATEGORIES:Special Event
END:VEVENT
END:VCALENDAR