BEGIN:VCALENDAR
VERSION:2.0
PRODID:-//Old Orchard Beach ME - ECPv6.15.17//NONSGML v1.0//EN
CALSCALE:GREGORIAN
METHOD:PUBLISH
X-ORIGINAL-URL:https://www.oobmaine.com
X-WR-CALDESC:Events for Old Orchard Beach ME
REFRESH-INTERVAL;VALUE=DURATION:PT1H
X-Robots-Tag:noindex
X-PUBLISHED-TTL:PT1H
BEGIN:VTIMEZONE
TZID:America/New_York
BEGIN:DAYLIGHT
TZOFFSETFROM:-0500
TZOFFSETTO:-0400
TZNAME:EDT
DTSTART:20250309T070000
END:DAYLIGHT
BEGIN:STANDARD
TZOFFSETFROM:-0400
TZOFFSETTO:-0500
TZNAME:EST
DTSTART:20251102T060000
END:STANDARD
BEGIN:DAYLIGHT
TZOFFSETFROM:-0500
TZOFFSETTO:-0400
TZNAME:EDT
DTSTART:20260308T070000
END:DAYLIGHT
BEGIN:STANDARD
TZOFFSETFROM:-0400
TZOFFSETTO:-0500
TZNAME:EST
DTSTART:20261101T060000
END:STANDARD
BEGIN:DAYLIGHT
TZOFFSETFROM:-0500
TZOFFSETTO:-0400
TZNAME:EDT
DTSTART:20270314T070000
END:DAYLIGHT
BEGIN:STANDARD
TZOFFSETFROM:-0400
TZOFFSETTO:-0500
TZNAME:EST
DTSTART:20271107T060000
END:STANDARD
END:VTIMEZONE
BEGIN:VEVENT
DTSTART;TZID=America/New_York:20260312T183000
DTEND;TZID=America/New_York:20260312T183000
DTSTAMP:20260425T080345
CREATED:20260224T152334Z
LAST-MODIFIED:20260224T152334Z
UID:21899-1773340200-1773340200@www.oobmaine.com
SUMMARY:Planning Board Public Hearing 03.12.2026
DESCRIPTION:
URL:https://www.oobmaine.com/event/planning-board-public-hearing-03-12-2026/
LOCATION:Town Hall Council Chambers\, 1 Portland Ave\, Old orchard Beach\, ME\, 04064\, United States
CATEGORIES:Home Commitee,Planning Board,Public Meeting
END:VEVENT
BEGIN:VEVENT
DTSTART;TZID=America/New_York:20260312T183000
DTEND;TZID=America/New_York:20260312T183000
DTSTAMP:20260425T080345
CREATED:20260225T171347Z
LAST-MODIFIED:20260225T171347Z
UID:21913-1773340200-1773340200@www.oobmaine.com
SUMMARY:Planning Board Meeting 03.12.2026
DESCRIPTION:
URL:https://www.oobmaine.com/event/planning-board-meeting-03-12-2026/
LOCATION:Town Hall Council Chambers\, 1 Portland Ave\, Old orchard Beach\, ME\, 04064\, United States
CATEGORIES:Home Board,Planning Board,Public Meeting
END:VEVENT
BEGIN:VEVENT
DTSTART;TZID=America/New_York:20260317T183000
DTEND;TZID=America/New_York:20260317T183000
DTSTAMP:20260425T080345
CREATED:20260313T183209Z
LAST-MODIFIED:20260313T183306Z
UID:21988-1773772200-1773772200@www.oobmaine.com
SUMMARY:Town Council Regular Meeting
DESCRIPTION:
URL:https://www.oobmaine.com/event/town-council-regular-meeting-49/
LOCATION:Town Hall Council Chambers\, 1 Portland Ave\, Old orchard Beach\, ME\, 04064\, United States
CATEGORIES:Home Meeting,Town Council
END:VEVENT
BEGIN:VEVENT
DTSTART;TZID=America/New_York:20260319T163000
DTEND;TZID=America/New_York:20260319T163000
DTSTAMP:20260425T080345
CREATED:20260316T152945Z
LAST-MODIFIED:20260316T153305Z
UID:21994-1773937800-1773937800@www.oobmaine.com
SUMMARY:Finance Committee Meeting
DESCRIPTION:
URL:https://www.oobmaine.com/event/finance-committee-meeting-15/
LOCATION:Police Conference Room\, 16 E. Emerson Cummings Blvd\, Old Orchard Beach\, ME\, 04064\, United States
CATEGORIES:Finance Committee,Home Commitee
END:VEVENT
BEGIN:VEVENT
DTSTART;TZID=America/New_York:20260319T180000
DTEND;TZID=America/New_York:20260319T180000
DTSTAMP:20260425T080345
CREATED:20260309T132146Z
LAST-MODIFIED:20260309T132146Z
UID:21959-1773943200-1773943200@www.oobmaine.com
SUMMARY:Comprehensive Plan Committee Meeting 03.19.2026
DESCRIPTION:
URL:https://www.oobmaine.com/event/comprehensive-plan-committee-meeting-03-19-2026/
LOCATION:Police Community Room\, 16 E Emerson Cummings Blvd\, Old Orchard Beach\, ME\, 04064\, United States
CATEGORIES:Comprehensive Plan Committee,Home Meeting,Public Meeting
END:VEVENT
BEGIN:VEVENT
DTSTART;TZID=America/New_York:20260321T090000
DTEND;TZID=America/New_York:20260321T103000
DTSTAMP:20260425T080345
CREATED:20260213T154002Z
LAST-MODIFIED:20260213T154522Z
UID:21845-1774083600-1774089000@www.oobmaine.com
SUMMARY:OOB Recreation Eggstravaganza
DESCRIPTION:Hop-hop hooray!!\nJoin us on Saturday\, March 21st\, 2026 from 9am-10:30am in the Old Orchard Beach highschool gym.\nThis is a FREE family event! Join us for a day filled with fun\, laughter\, and egg-citement that your little ones won’t want to miss!
URL:https://www.oobmaine.com/event/oob-recreation-eggstravaganza/
LOCATION:Old Orchard Beach High School\, 40 Emerson Cummings Blvd\, OLD ORCHARD BEACH\, 04064\, United States
CATEGORIES:Recreation and Ballpark
END:VEVENT
BEGIN:VEVENT
DTSTART;TZID=America/New_York:20260330T170000
DTEND;TZID=America/New_York:20260330T170000
DTSTAMP:20260425T080345
CREATED:20260319T154328Z
LAST-MODIFIED:20260319T154328Z
UID:22028-1774890000-1774890000@www.oobmaine.com
SUMMARY:Zoning Board of Appeals Training Meeting 03.30.2026
DESCRIPTION:
URL:https://www.oobmaine.com/event/zoning-board-of-appeals-training-meeting-03-30-2026/
LOCATION:Town Hall Council Chambers\, 1 Portland Ave\, Old orchard Beach\, ME\, 04064\, United States
CATEGORIES:Home Board,Public Meeting,Zoning Board of Appeals
END:VEVENT
BEGIN:VEVENT
DTSTART;TZID=America/New_York:20260330T183000
DTEND;TZID=America/New_York:20260330T183000
DTSTAMP:20260425T080345
CREATED:20260319T154643Z
LAST-MODIFIED:20260319T155259Z
UID:22031-1774895400-1774895400@www.oobmaine.com
SUMMARY:Zoning Board of Appeals Meeting 03.30.2026
DESCRIPTION:
URL:https://www.oobmaine.com/event/zoning-board-of-appeals-meeting-03-30-2026/
LOCATION:Town Hall Council Chambers\, 1 Portland Ave\, Old orchard Beach\, ME\, 04064\, United States
CATEGORIES:Home Meeting,Public Meeting,Zoning Board of Appeals
END:VEVENT
BEGIN:VEVENT
DTSTART;TZID=America/New_York:20260402T173000
DTEND;TZID=America/New_York:20260402T173000
DTSTAMP:20260425T080345
CREATED:20260324T172507Z
LAST-MODIFIED:20260324T172507Z
UID:22048-1775151000-1775151000@www.oobmaine.com
SUMMARY:Planning Board Sitewalk 04.02.2026
DESCRIPTION:
URL:https://www.oobmaine.com/event/planning-board-sitewalk-04-02-2026/
LOCATION:48 Ross Road\, 48 Ross Road\, Old Orchard Beach\, ME\, 04064\, United States
CATEGORIES:Home Commitee,Planning Board,Public Meeting
END:VEVENT
BEGIN:VEVENT
DTSTART;TZID=America/New_York:20260406T180000
DTEND;TZID=America/New_York:20260406T180000
DTSTAMP:20260425T080345
CREATED:20260330T130200Z
LAST-MODIFIED:20260330T130200Z
UID:22077-1775498400-1775498400@www.oobmaine.com
SUMMARY:Design Review Committee Meeting 04.06.2026
DESCRIPTION:
URL:https://www.oobmaine.com/event/design-review-committee-meeting-04-06-2026/
LOCATION:Town Hall Council Chambers\, 1 Portland Ave\, Old orchard Beach\, ME\, 04064\, United States
CATEGORIES:Design Review Board,Home Board,Public Meeting
END:VEVENT
BEGIN:VEVENT
DTSTART;TZID=America/New_York:20260407T163000
DTEND;TZID=America/New_York:20260407T163000
DTSTAMP:20260425T080345
CREATED:20260406T200238Z
LAST-MODIFIED:20260406T200356Z
UID:22117-1775579400-1775579400@www.oobmaine.com
SUMMARY:Town Council Emergency Executive Session
DESCRIPTION:
URL:https://www.oobmaine.com/event/town-council-emergency-executive-session/
LOCATION:Police Conference Room\, 16 E. Emerson Cummings Blvd\, Old Orchard Beach\, ME\, 04064\, United States
CATEGORIES:Home Meeting
END:VEVENT
BEGIN:VEVENT
DTSTART;TZID=America/New_York:20260407T183000
DTEND;TZID=America/New_York:20260407T183000
DTSTAMP:20260425T080345
CREATED:20260403T203352Z
LAST-MODIFIED:20260403T203430Z
UID:22108-1775586600-1775586600@www.oobmaine.com
SUMMARY:Town Council Regular Meeting
DESCRIPTION:
URL:https://www.oobmaine.com/event/town-council-regular-meeting-50/
LOCATION:Town Hall Council Chambers\, 1 Portland Ave\, Old orchard Beach\, ME\, 04064\, United States
CATEGORIES:Home Meeting,Town Council
END:VEVENT
BEGIN:VEVENT
DTSTART;TZID=America/New_York:20260408T160000
DTEND;TZID=America/New_York:20260408T160000
DTSTAMP:20260425T080345
CREATED:20260402T183704Z
LAST-MODIFIED:20260402T183704Z
UID:22102-1775664000-1775664000@www.oobmaine.com
SUMMARY:Veteran's Memorial Park Sub-Committee Meeting 04.08.2026
DESCRIPTION:
URL:https://www.oobmaine.com/event/veterans-memorial-park-sub-committee-meeting-04-08-2026/
LOCATION:Police Community Room\, 16 E Emerson Cummings Blvd\, Old Orchard Beach\, ME\, 04064\, United States
CATEGORIES:Conservation Commission,Home Commitee,Public Meeting
END:VEVENT
BEGIN:VEVENT
DTSTART;TZID=America/New_York:20260409T183000
DTEND;TZID=America/New_York:20260409T183000
DTSTAMP:20260425T080345
CREATED:20260324T174112Z
LAST-MODIFIED:20260324T174112Z
UID:22055-1775759400-1775759400@www.oobmaine.com
SUMMARY:Planning Board Public Hearing 04.09.2026
DESCRIPTION:
URL:https://www.oobmaine.com/event/planning-board-public-hearing-04-09-2026/
LOCATION:Town Hall Council Chambers\, 1 Portland Ave\, Old orchard Beach\, ME\, 04064\, United States
CATEGORIES:Home Meeting,Planning Board,Public Meeting
END:VEVENT
BEGIN:VEVENT
DTSTART;TZID=America/New_York:20260409T183000
DTEND;TZID=America/New_York:20260409T183000
DTSTAMP:20260425T080345
CREATED:20260326T180303Z
LAST-MODIFIED:20260326T180303Z
UID:22063-1775759400-1775759400@www.oobmaine.com
SUMMARY:Planning Board Meeting 04.09.2026
DESCRIPTION:
URL:https://www.oobmaine.com/event/planning-board-meeting-04-09-2026/
LOCATION:Town Hall Council Chambers\, 1 Portland Ave\, Old orchard Beach\, ME\, 04064\, United States
CATEGORIES:Home Meeting,Planning Board,Public Meeting
END:VEVENT
BEGIN:VEVENT
DTSTART;TZID=America/New_York:20260413T190000
DTEND;TZID=America/New_York:20260413T190000
DTSTAMP:20260425T080345
CREATED:20260406T182212Z
LAST-MODIFIED:20260406T182212Z
UID:22114-1776106800-1776106800@www.oobmaine.com
SUMMARY:Conservation Commission Meeting 04.13.2026
DESCRIPTION:
URL:https://www.oobmaine.com/event/conservation-commission-meeting-04-13-2026/
LOCATION:Town Hall Council Chambers\, 1 Portland Ave\, Old orchard Beach\, ME\, 04064\, United States
CATEGORIES:Conservation Commission,Home Board,Public Meeting
END:VEVENT
BEGIN:VEVENT
DTSTART;TZID=America/New_York:20260414T140000
DTEND;TZID=America/New_York:20260414T170000
DTSTAMP:20260425T080345
CREATED:20260410T185316Z
LAST-MODIFIED:20260410T185356Z
UID:22146-1776175200-1776186000@www.oobmaine.com
SUMMARY:Town Council Executive Session
DESCRIPTION:
URL:https://www.oobmaine.com/event/town-council-executive-session-19/
LOCATION:Police Conference Room\, 16 E. Emerson Cummings Blvd\, Old Orchard Beach\, ME\, 04064\, United States
CATEGORIES:Home Meeting,Town Council
END:VEVENT
BEGIN:VEVENT
DTSTART;TZID=America/New_York:20260415T140000
DTEND;TZID=America/New_York:20260415T170000
DTSTAMP:20260425T080345
CREATED:20260410T185517Z
LAST-MODIFIED:20260410T185637Z
UID:22148-1776261600-1776272400@www.oobmaine.com
SUMMARY:Town Council Executive Session
DESCRIPTION:
URL:https://www.oobmaine.com/event/town-council-executive-session-20/
LOCATION:Police Conference Room\, 16 E. Emerson Cummings Blvd\, Old Orchard Beach\, ME\, 04064\, United States
CATEGORIES:Home Meeting,Town Council
END:VEVENT
BEGIN:VEVENT
DTSTART;TZID=America/New_York:20260421T183000
DTEND;TZID=America/New_York:20260421T183000
DTSTAMP:20260425T080345
CREATED:20260416T191810Z
LAST-MODIFIED:20260416T202047Z
UID:22178-1776796200-1776796200@www.oobmaine.com
SUMMARY:Town Council Regular Meeting
DESCRIPTION:
URL:https://www.oobmaine.com/event/town-council-regular-meeting-51/
LOCATION:Town Hall Council Chambers\, 1 Portland Ave\, Old orchard Beach\, ME\, 04064\, United States
CATEGORIES:Home Meeting,Town Council
END:VEVENT
BEGIN:VEVENT
DTSTART;TZID=America/New_York:20260427T183000
DTEND;TZID=America/New_York:20260427T183000
DTSTAMP:20260425T080345
CREATED:20260415T185915Z
LAST-MODIFIED:20260415T185915Z
UID:22174-1777314600-1777314600@www.oobmaine.com
SUMMARY:Zoning Board of Appeals Meeting 04.27.2026
DESCRIPTION:
URL:https://www.oobmaine.com/event/zoning-board-of-appeals-meeting-04-27-2026/
LOCATION:Town Hall Council Chambers\, 1 Portland Ave\, Old orchard Beach\, ME\, 04064\, United States
CATEGORIES:Home Commitee,Public Meeting,Zoning Board of Appeals
END:VEVENT
BEGIN:VEVENT
DTSTART;TZID=America/New_York:20260428T170000
DTEND;TZID=America/New_York:20260428T180000
DTSTAMP:20260425T080345
CREATED:20260424T184607Z
LAST-MODIFIED:20260424T184709Z
UID:22225-1777395600-1777399200@www.oobmaine.com
SUMMARY:Town Council Executive Session
DESCRIPTION:
URL:https://www.oobmaine.com/event/town-council-executive-session-22/
LOCATION:Town Hall Council Chambers\, 1 Portland Ave\, Old orchard Beach\, ME\, 04064\, United States
CATEGORIES:Public Meeting,Town Council
END:VEVENT
BEGIN:VEVENT
DTSTART;TZID=America/New_York:20260429T180000
DTEND;TZID=America/New_York:20260429T180000
DTSTAMP:20260425T080345
CREATED:20260424T185027Z
LAST-MODIFIED:20260424T185109Z
UID:22229-1777485600-1777485600@www.oobmaine.com
SUMMARY:Town Council Budget Workshop - Police/Parking
DESCRIPTION:
URL:https://www.oobmaine.com/event/town-council-budget-workshop-police-parking/
LOCATION:Town Hall Council Chambers\, 1 Portland Ave\, Old orchard Beach\, ME\, 04064\, United States
CATEGORIES:Home Meeting,Town Council
END:VEVENT
BEGIN:VEVENT
DTSTART;TZID=America/New_York:20260524T170000
DTEND;TZID=America/New_York:20260524T203000
DTSTAMP:20260425T080345
CREATED:20260422T161845Z
LAST-MODIFIED:20260422T161845Z
UID:22195-1779642000-1779654600@www.oobmaine.com
SUMMARY:Veterans Memorial Park Sub-Committee Luminary Night 05.24.2026
DESCRIPTION:They will be lining the park walkways with lighted bags in honor of military veterans who died while serving or subsequent to service.  Luminary bags will be sold at the event\, to place on the walkways\, as well.
URL:https://www.oobmaine.com/event/veterans-memorial-park-sub-committee-luminary-night-05-24-2026/
LOCATION:Veterans Memorial Park\, 4 Heath St\, Old Orchard Beach\, ME\, 04064\, United States
CATEGORIES:Special Event
END:VEVENT
BEGIN:VEVENT
DTSTART;TZID=America/New_York:20260525T130000
DTEND;TZID=America/New_York:20260525T150000
DTSTAMP:20260425T080345
CREATED:20260218T130135Z
LAST-MODIFIED:20260218T130135Z
UID:21866-1779714000-1779721200@www.oobmaine.com
SUMMARY:Memorial Day Parade 05.25.2026
DESCRIPTION:Memorial Day Parade to honor our country’s veterans. The parade will be on Monday\, May 25th\, 2026\, from 1:00p.m. to approximately 3:00 p.m. with an anticipated parade start at the Ballpark\, traveling down Saco Ave\, to Old Orchard Street\, followed by First Street with an end at Memorial Park.
URL:https://www.oobmaine.com/event/memorial-day-parade-05-25-2026/
LOCATION:Starting at the Ballpark
CATEGORIES:Special Event
END:VEVENT
BEGIN:VEVENT
DTSTART;TZID=America/New_York:20260606T090000
DTEND;TZID=America/New_York:20260606T180000
DTSTAMP:20260425T080345
CREATED:20250527T181847Z
LAST-MODIFIED:20250527T181847Z
UID:20641-1780736400-1780768800@www.oobmaine.com
SUMMARY:OOB365 Scottish Festival 06.06.2026
DESCRIPTION:FMI:  www.oob365.com
URL:https://www.oobmaine.com/event/oob365-scottish-festival-06-06-2026/
LOCATION:Veterans Memorial Park\, 4 Heath St\, Old Orchard Beach\, ME\, 04064\, United States
END:VEVENT
BEGIN:VEVENT
DTSTART;TZID=America/New_York:20260613T090000
DTEND;TZID=America/New_York:20260613T130000
DTSTAMP:20260425T080345
CREATED:20250527T182542Z
LAST-MODIFIED:20250527T182542Z
UID:20644-1781341200-1781355600@www.oobmaine.com
SUMMARY:OOB365 Back to the Beach Corvette Weekend 06.13.2026
DESCRIPTION:FMI:  www.oob365.com
URL:https://www.oobmaine.com/event/oob365-back-to-the-beach-corvette-weekend-06-13-2026/
LOCATION:Old Orchard Street\, Old Orchard Street\, Old Orchard Beach\, ME\, 04064\, United States
CATEGORIES:Special Event
END:VEVENT
BEGIN:VEVENT
DTSTART;TZID=America/New_York:20260620T150000
DTEND;TZID=America/New_York:20260620T183000
DTSTAMP:20260425T080345
CREATED:20260422T175846Z
LAST-MODIFIED:20260422T175846Z
UID:22207-1781967600-1781980200@www.oobmaine.com
SUMMARY:Chamber of Commerce Lobster Rock (lobster bake) in Memorial Park 06.20.2026
DESCRIPTION:The Chamber of Commerce will be holding a Lobster Rock in Memorial Park on Saturday\, June 20th\, 2026\, from 3 p.m. to 6:30 p.m..  The event includes live music\, kids’ activities\, lobster-dish tastings.  There will be a beer tent on the Libby Library property.
URL:https://www.oobmaine.com/event/chamber-of-commerce-lobster-rock-lobster-bake-in-memorial-park-06-20-2026/
LOCATION:Veterans Memorial Park\, 4 Heath St\, Old Orchard Beach\, ME\, 04064\, United States
CATEGORIES:Special Event
END:VEVENT
BEGIN:VEVENT
DTSTART;TZID=America/New_York:20260621T150000
DTEND;TZID=America/New_York:20260621T183000
DTSTAMP:20260425T080345
CREATED:20260422T180030Z
LAST-MODIFIED:20260422T180030Z
UID:22208-1782054000-1782066600@www.oobmaine.com
SUMMARY:RAIN DATE Chamber of Commerce Lobster Rock (lobster bake) in Memorial Park
DESCRIPTION:The Chamber of Commerce will be holding a Lobster Rock in Memorial Park on Saturday\, June 20th\, 2026\, from 3 p.m. to 6:30 p.m..  The event includes live music\, kids’ activities\, lobster-dish tastings.  There will be a beer tent on the Libby Library property.
URL:https://www.oobmaine.com/event/rain-date-chamber-of-commerce-lobster-rock-lobster-bake-in-memorial-park/
LOCATION:Veterans Memorial Park\, 4 Heath St\, Old Orchard Beach\, ME\, 04064\, United States
CATEGORIES:Special Event
END:VEVENT
BEGIN:VEVENT
DTSTART;TZID=America/New_York:20260625T214500
DTEND;TZID=America/New_York:20260625T220000
DTSTAMP:20260425T080345
CREATED:20260422T172742Z
LAST-MODIFIED:20260422T172839Z
UID:22196-1782423900-1782424800@www.oobmaine.com
SUMMARY:Palace Playland and the Pier Fireworks Displays on the beach in front of Palace Playland at 9:45 p.m.
DESCRIPTION:There will be fireworks displays on the beach in front of Palace Playland every Thursday night at 9:45 p.m. from June 25th through August 27th.  There will also be fireworks on the 4th of July.
URL:https://www.oobmaine.com/event/palace-playland-and-the-pier-fireworks-displays/
LOCATION:Beach in front of Palace Playland\, 1 Old Orchard Street\, Old Orchard Beach\, 04064\, United States
CATEGORIES:Special Event
END:VEVENT
BEGIN:VEVENT
DTSTART;TZID=America/New_York:20260702T140000
DTEND;TZID=America/New_York:20260702T190000
DTSTAMP:20260425T080345
CREATED:20260408T191058Z
LAST-MODIFIED:20260408T191058Z
UID:22124-1783000800-1783018800@www.oobmaine.com
SUMMARY:Ocean Park Association Sand Sculpture Contest 07.02.2026
DESCRIPTION:OPA is holding a Sand Sculpture Contest on the beach between Randall Avenue and Winona Avenue on Thursday\, July 2nd\, from 2-7 p.m.
URL:https://www.oobmaine.com/event/ocean-park-association-sand-sculpture-contest-07-02-2026/
LOCATION:Beach between Randall and Winona Avenues
CATEGORIES:Special Event
END:VEVENT
END:VCALENDAR