BEGIN:VCALENDAR
VERSION:2.0
PRODID:-//Old Orchard Beach ME - ECPv6.15.17//NONSGML v1.0//EN
CALSCALE:GREGORIAN
METHOD:PUBLISH
X-WR-CALNAME:Old Orchard Beach ME
X-ORIGINAL-URL:https://www.oobmaine.com
X-WR-CALDESC:Events for Old Orchard Beach ME
REFRESH-INTERVAL;VALUE=DURATION:PT1H
X-Robots-Tag:noindex
X-PUBLISHED-TTL:PT1H
BEGIN:VTIMEZONE
TZID:America/New_York
BEGIN:DAYLIGHT
TZOFFSETFROM:-0500
TZOFFSETTO:-0400
TZNAME:EDT
DTSTART:20220313T070000
END:DAYLIGHT
BEGIN:STANDARD
TZOFFSETFROM:-0400
TZOFFSETTO:-0500
TZNAME:EST
DTSTART:20221106T060000
END:STANDARD
BEGIN:DAYLIGHT
TZOFFSETFROM:-0500
TZOFFSETTO:-0400
TZNAME:EDT
DTSTART:20230312T070000
END:DAYLIGHT
BEGIN:STANDARD
TZOFFSETFROM:-0400
TZOFFSETTO:-0500
TZNAME:EST
DTSTART:20231105T060000
END:STANDARD
BEGIN:DAYLIGHT
TZOFFSETFROM:-0500
TZOFFSETTO:-0400
TZNAME:EDT
DTSTART:20240310T070000
END:DAYLIGHT
BEGIN:STANDARD
TZOFFSETFROM:-0400
TZOFFSETTO:-0500
TZNAME:EST
DTSTART:20241103T060000
END:STANDARD
END:VTIMEZONE
BEGIN:VEVENT
DTSTART;TZID=America/New_York:20230706T170000
DTEND;TZID=America/New_York:20230706T200000
DTSTAMP:20260419T125544
CREATED:20230515T154440Z
LAST-MODIFIED:20230706T190050Z
UID:16688-1688662800-1688673600@www.oobmaine.com
SUMMARY:Concerts in The Ballpark 2023
DESCRIPTION:Food Menu \nBeer Barn
URL:https://www.oobmaine.com/event/concerts-in-the-ballpark-2023/
LOCATION:The Ballpark\, 7 Ballpark Way\, Old Orchard Beach\, ME\, 04064\, United States
CATEGORIES:Home,Recreation and Ballpark,Special Event
END:VEVENT
END:VCALENDAR