BEGIN:VCALENDAR
VERSION:2.0
PRODID:-//Old Orchard Beach ME - ECPv6.15.17//NONSGML v1.0//EN
CALSCALE:GREGORIAN
METHOD:PUBLISH
X-ORIGINAL-URL:https://www.oobmaine.com
X-WR-CALDESC:Events for Old Orchard Beach ME
REFRESH-INTERVAL;VALUE=DURATION:PT1H
X-Robots-Tag:noindex
X-PUBLISHED-TTL:PT1H
BEGIN:VTIMEZONE
TZID:America/New_York
BEGIN:DAYLIGHT
TZOFFSETFROM:-0500
TZOFFSETTO:-0400
TZNAME:EDT
DTSTART:20250309T070000
END:DAYLIGHT
BEGIN:STANDARD
TZOFFSETFROM:-0400
TZOFFSETTO:-0500
TZNAME:EST
DTSTART:20251102T060000
END:STANDARD
BEGIN:DAYLIGHT
TZOFFSETFROM:-0500
TZOFFSETTO:-0400
TZNAME:EDT
DTSTART:20260308T070000
END:DAYLIGHT
BEGIN:STANDARD
TZOFFSETFROM:-0400
TZOFFSETTO:-0500
TZNAME:EST
DTSTART:20261101T060000
END:STANDARD
BEGIN:DAYLIGHT
TZOFFSETFROM:-0500
TZOFFSETTO:-0400
TZNAME:EDT
DTSTART:20270314T070000
END:DAYLIGHT
BEGIN:STANDARD
TZOFFSETFROM:-0400
TZOFFSETTO:-0500
TZNAME:EST
DTSTART:20271107T060000
END:STANDARD
END:VTIMEZONE
BEGIN:VEVENT
DTSTART;TZID=America/New_York:20260402T173000
DTEND;TZID=America/New_York:20260402T173000
DTSTAMP:20260419T160553
CREATED:20260324T172507Z
LAST-MODIFIED:20260324T172507Z
UID:22048-1775151000-1775151000@www.oobmaine.com
SUMMARY:Planning Board Sitewalk 04.02.2026
DESCRIPTION:
URL:https://www.oobmaine.com/event/planning-board-sitewalk-04-02-2026/
LOCATION:48 Ross Road\, 48 Ross Road\, Old Orchard Beach\, ME\, 04064\, United States
CATEGORIES:Home Commitee,Planning Board,Public Meeting
END:VEVENT
BEGIN:VEVENT
DTSTART;TZID=America/New_York:20260406T180000
DTEND;TZID=America/New_York:20260406T180000
DTSTAMP:20260419T160553
CREATED:20260330T130200Z
LAST-MODIFIED:20260330T130200Z
UID:22077-1775498400-1775498400@www.oobmaine.com
SUMMARY:Design Review Committee Meeting 04.06.2026
DESCRIPTION:
URL:https://www.oobmaine.com/event/design-review-committee-meeting-04-06-2026/
LOCATION:Town Hall Council Chambers\, 1 Portland Ave\, Old orchard Beach\, ME\, 04064\, United States
CATEGORIES:Design Review Board,Home Board,Public Meeting
END:VEVENT
BEGIN:VEVENT
DTSTART;TZID=America/New_York:20260408T160000
DTEND;TZID=America/New_York:20260408T160000
DTSTAMP:20260419T160553
CREATED:20260402T183704Z
LAST-MODIFIED:20260402T183704Z
UID:22102-1775664000-1775664000@www.oobmaine.com
SUMMARY:Veteran's Memorial Park Sub-Committee Meeting 04.08.2026
DESCRIPTION:
URL:https://www.oobmaine.com/event/veterans-memorial-park-sub-committee-meeting-04-08-2026/
LOCATION:Police Community Room\, 16 E Emerson Cummings Blvd\, Old Orchard Beach\, ME\, 04064\, United States
CATEGORIES:Conservation Commission,Home Commitee,Public Meeting
END:VEVENT
BEGIN:VEVENT
DTSTART;TZID=America/New_York:20260409T183000
DTEND;TZID=America/New_York:20260409T183000
DTSTAMP:20260419T160553
CREATED:20260324T174112Z
LAST-MODIFIED:20260324T174112Z
UID:22055-1775759400-1775759400@www.oobmaine.com
SUMMARY:Planning Board Public Hearing 04.09.2026
DESCRIPTION:
URL:https://www.oobmaine.com/event/planning-board-public-hearing-04-09-2026/
LOCATION:Town Hall Council Chambers\, 1 Portland Ave\, Old orchard Beach\, ME\, 04064\, United States
CATEGORIES:Home Meeting,Planning Board,Public Meeting
END:VEVENT
BEGIN:VEVENT
DTSTART;TZID=America/New_York:20260409T183000
DTEND;TZID=America/New_York:20260409T183000
DTSTAMP:20260419T160553
CREATED:20260326T180303Z
LAST-MODIFIED:20260326T180303Z
UID:22063-1775759400-1775759400@www.oobmaine.com
SUMMARY:Planning Board Meeting 04.09.2026
DESCRIPTION:
URL:https://www.oobmaine.com/event/planning-board-meeting-04-09-2026/
LOCATION:Town Hall Council Chambers\, 1 Portland Ave\, Old orchard Beach\, ME\, 04064\, United States
CATEGORIES:Home Meeting,Planning Board,Public Meeting
END:VEVENT
BEGIN:VEVENT
DTSTART;TZID=America/New_York:20260413T190000
DTEND;TZID=America/New_York:20260413T190000
DTSTAMP:20260419T160553
CREATED:20260406T182212Z
LAST-MODIFIED:20260406T182212Z
UID:22114-1776106800-1776106800@www.oobmaine.com
SUMMARY:Conservation Commission Meeting 04.13.2026
DESCRIPTION:
URL:https://www.oobmaine.com/event/conservation-commission-meeting-04-13-2026/
LOCATION:Town Hall Council Chambers\, 1 Portland Ave\, Old orchard Beach\, ME\, 04064\, United States
CATEGORIES:Conservation Commission,Home Board,Public Meeting
END:VEVENT
BEGIN:VEVENT
DTSTART;TZID=America/New_York:20260427T183000
DTEND;TZID=America/New_York:20260427T183000
DTSTAMP:20260419T160553
CREATED:20260415T185915Z
LAST-MODIFIED:20260415T185915Z
UID:22174-1777314600-1777314600@www.oobmaine.com
SUMMARY:Zoning Board of Appeals Meeting 04.27.2026
DESCRIPTION:
URL:https://www.oobmaine.com/event/zoning-board-of-appeals-meeting-04-27-2026/
LOCATION:Town Hall Council Chambers\, 1 Portland Ave\, Old orchard Beach\, ME\, 04064\, United States
CATEGORIES:Home Commitee,Public Meeting,Zoning Board of Appeals
END:VEVENT
END:VCALENDAR