BEGIN:VCALENDAR
VERSION:2.0
PRODID:-//Old Orchard Beach ME - ECPv6.15.17//NONSGML v1.0//EN
CALSCALE:GREGORIAN
METHOD:PUBLISH
X-ORIGINAL-URL:https://www.oobmaine.com
X-WR-CALDESC:Events for Old Orchard Beach ME
REFRESH-INTERVAL;VALUE=DURATION:PT1H
X-Robots-Tag:noindex
X-PUBLISHED-TTL:PT1H
BEGIN:VTIMEZONE
TZID:America/New_York
BEGIN:DAYLIGHT
TZOFFSETFROM:-0500
TZOFFSETTO:-0400
TZNAME:EDT
DTSTART:20240310T070000
END:DAYLIGHT
BEGIN:STANDARD
TZOFFSETFROM:-0400
TZOFFSETTO:-0500
TZNAME:EST
DTSTART:20241103T060000
END:STANDARD
BEGIN:DAYLIGHT
TZOFFSETFROM:-0500
TZOFFSETTO:-0400
TZNAME:EDT
DTSTART:20250309T070000
END:DAYLIGHT
BEGIN:STANDARD
TZOFFSETFROM:-0400
TZOFFSETTO:-0500
TZNAME:EST
DTSTART:20251102T060000
END:STANDARD
BEGIN:DAYLIGHT
TZOFFSETFROM:-0500
TZOFFSETTO:-0400
TZNAME:EDT
DTSTART:20260308T070000
END:DAYLIGHT
BEGIN:STANDARD
TZOFFSETFROM:-0400
TZOFFSETTO:-0500
TZNAME:EST
DTSTART:20261101T060000
END:STANDARD
BEGIN:DAYLIGHT
TZOFFSETFROM:-0500
TZOFFSETTO:-0400
TZNAME:EDT
DTSTART:20270314T070000
END:DAYLIGHT
BEGIN:STANDARD
TZOFFSETFROM:-0400
TZOFFSETTO:-0500
TZNAME:EST
DTSTART:20271107T060000
END:STANDARD
END:VTIMEZONE
BEGIN:VEVENT
DTSTART;TZID=America/New_York:20250916T183000
DTEND;TZID=America/New_York:20250916T183000
DTSTAMP:20260423T122611
CREATED:20250912T171535Z
LAST-MODIFIED:20250912T171948Z
UID:21101-1758047400-1758047400@www.oobmaine.com
SUMMARY:Town Council Regular Meeting
DESCRIPTION:
URL:https://www.oobmaine.com/event/town-council-regular-meeting-38/
LOCATION:Town Hall Council Chambers\, 1 Portland Ave\, Old orchard Beach\, ME\, 04064\, United States
CATEGORIES:Home Meeting,Town Council
END:VEVENT
BEGIN:VEVENT
DTSTART;TZID=America/New_York:20251001T180000
DTEND;TZID=America/New_York:20251001T180000
DTSTAMP:20260423T122611
CREATED:20250923T183610Z
LAST-MODIFIED:20250923T183610Z
UID:21147-1759341600-1759341600@www.oobmaine.com
SUMMARY:Comprehensive Plan Committee Meeting 10.01.2025
DESCRIPTION:
URL:https://www.oobmaine.com/event/comprehensive-plan-committee-meeting-10-01-2025/
LOCATION:Town Hall Council Chambers\, 1 Portland Ave\, Old orchard Beach\, ME\, 04064\, United States
CATEGORIES:Comprehensive Plan Committee,Home Meeting,Public Meeting
END:VEVENT
BEGIN:VEVENT
DTSTART;TZID=America/New_York:20251007T183000
DTEND;TZID=America/New_York:20251007T183000
DTSTAMP:20260423T122611
CREATED:20251003T200241Z
LAST-MODIFIED:20251003T200325Z
UID:21182-1759861800-1759861800@www.oobmaine.com
SUMMARY:Town Council Meeting
DESCRIPTION:
URL:https://www.oobmaine.com/event/town-council-meeting-23/
LOCATION:Town Hall Council Chambers\, 1 Portland Ave\, Old orchard Beach\, ME\, 04064\, United States
CATEGORIES:Home Meeting
END:VEVENT
BEGIN:VEVENT
DTSTART;TZID=America/New_York:20251015T190000
DTEND;TZID=America/New_York:20251015T190000
DTSTAMP:20260423T122611
CREATED:20251007T184959Z
LAST-MODIFIED:20251007T185049Z
UID:21201-1760554800-1760554800@www.oobmaine.com
SUMMARY:Conservation Commission Meeting 10.15.2025
DESCRIPTION:
URL:https://www.oobmaine.com/event/conservation-commission-meeting-10-15-2025/
LOCATION:Town Hall Council Chambers\, 1 Portland Ave\, Old orchard Beach\, ME\, 04064\, United States
CATEGORIES:Conservation Commission,Home Meeting,Public Meeting
END:VEVENT
BEGIN:VEVENT
DTSTART;TZID=America/New_York:20251021T183000
DTEND;TZID=America/New_York:20251021T183000
DTSTAMP:20260423T122611
CREATED:20251016T194639Z
LAST-MODIFIED:20251016T194824Z
UID:21237-1761071400-1761071400@www.oobmaine.com
SUMMARY:Town Council Regular Meeting
DESCRIPTION:
URL:https://www.oobmaine.com/event/town-council-regular-meeting-39/
LOCATION:Town Hall Council Chambers\, 1 Portland Ave\, Old orchard Beach\, ME\, 04064\, United States
CATEGORIES:Home Meeting
END:VEVENT
BEGIN:VEVENT
DTSTART;TZID=America/New_York:20251028T180000
DTEND;TZID=America/New_York:20251028T180000
DTSTAMP:20260423T122611
CREATED:20251025T131649Z
LAST-MODIFIED:20251025T132127Z
UID:21266-1761674400-1761674400@www.oobmaine.com
SUMMARY:Town Council Workshop
DESCRIPTION:
URL:https://www.oobmaine.com/event/town-council-workshop-16/
LOCATION:Town Hall Council Chambers\, 1 Portland Ave\, Old orchard Beach\, ME\, 04064\, United States
CATEGORIES:Home Meeting
END:VEVENT
BEGIN:VEVENT
DTSTART;TZID=America/New_York:20251111T170000
DTEND;TZID=America/New_York:20251111T170000
DTSTAMP:20260423T122611
CREATED:20251107T174229Z
LAST-MODIFIED:20251107T175147Z
UID:21316-1762880400-1762880400@www.oobmaine.com
SUMMARY:Town Council Executive Session
DESCRIPTION:
URL:https://www.oobmaine.com/event/town-council-executive-session-18/
LOCATION:Town Hall Council Chambers\, 1 Portland Ave\, Old orchard Beach\, ME\, 04064\, United States
CATEGORIES:Home Meeting
END:VEVENT
BEGIN:VEVENT
DTSTART;TZID=America/New_York:20251113T183000
DTEND;TZID=America/New_York:20251113T183000
DTSTAMP:20260423T122611
CREATED:20251030T144421Z
LAST-MODIFIED:20251030T144421Z
UID:21289-1763058600-1763058600@www.oobmaine.com
SUMMARY:Planning Board Meeting 11.13.2025
DESCRIPTION:
URL:https://www.oobmaine.com/event/planning-board-meeting-11-13-2025/
LOCATION:Town Hall Council Chambers\, 1 Portland Ave\, Old orchard Beach\, ME\, 04064\, United States
CATEGORIES:Home Meeting,Planning Board,Public Meeting
END:VEVENT
BEGIN:VEVENT
DTSTART;TZID=America/New_York:20251117T180000
DTEND;TZID=America/New_York:20251117T180000
DTSTAMP:20260423T122611
CREATED:20251112T195238Z
LAST-MODIFIED:20251112T195619Z
UID:21338-1763402400-1763402400@www.oobmaine.com
SUMMARY:Town Council Special Meeting
DESCRIPTION:
URL:https://www.oobmaine.com/event/town-council-special-meeting-7/
LOCATION:Town Hall Council Chambers\, 1 Portland Ave\, Old orchard Beach\, ME\, 04064\, United States
CATEGORIES:Home Meeting
END:VEVENT
BEGIN:VEVENT
DTSTART;TZID=America/New_York:20251118T183000
DTEND;TZID=America/New_York:20251118T183000
DTSTAMP:20260423T122611
CREATED:20251114T205931Z
LAST-MODIFIED:20251114T210114Z
UID:21347-1763490600-1763490600@www.oobmaine.com
SUMMARY:Town Council Regular Meeting
DESCRIPTION:
URL:https://www.oobmaine.com/event/town-council-regular-meeting-40/
LOCATION:Town Hall Council Chambers\, 1 Portland Ave\, Old orchard Beach\, ME\, 04064\, United States
CATEGORIES:Home Meeting
END:VEVENT
BEGIN:VEVENT
DTSTART;TZID=America/New_York:20251118T190000
DTEND;TZID=America/New_York:20251118T190000
DTSTAMP:20260423T122611
CREATED:20251114T210244Z
LAST-MODIFIED:20251114T210329Z
UID:21350-1763492400-1763492400@www.oobmaine.com
SUMMARY:Town Council Workshop
DESCRIPTION:
URL:https://www.oobmaine.com/event/town-council-workshop-17/
LOCATION:Town Hall Council Chambers\, 1 Portland Ave\, Old orchard Beach\, ME\, 04064\, United States
CATEGORIES:Home Meeting
END:VEVENT
BEGIN:VEVENT
DTSTART;TZID=America/New_York:20251125T163000
DTEND;TZID=America/New_York:20251125T180000
DTSTAMP:20260423T122611
CREATED:20251121T202733Z
LAST-MODIFIED:20251121T202841Z
UID:21403-1764088200-1764093600@www.oobmaine.com
SUMMARY:Town Council Executive Session 1
DESCRIPTION:
URL:https://www.oobmaine.com/event/town-council-executive-session-1/
LOCATION:Town Hall Council Chambers\, 1 Portland Ave\, Old orchard Beach\, ME\, 04064\, United States
CATEGORIES:Home Meeting
END:VEVENT
BEGIN:VEVENT
DTSTART;TZID=America/New_York:20251125T180000
DTEND;TZID=America/New_York:20251125T180000
DTSTAMP:20260423T122611
CREATED:20251121T203002Z
LAST-MODIFIED:20251121T203105Z
UID:21405-1764093600-1764093600@www.oobmaine.com
SUMMARY:Town Council Executive Session 2
DESCRIPTION:
URL:https://www.oobmaine.com/event/town-council-executive-session-2-2/
LOCATION:Town Hall Council Chambers\, 1 Portland Ave\, Old orchard Beach\, ME\, 04064\, United States
CATEGORIES:Home Meeting
END:VEVENT
BEGIN:VEVENT
DTSTART;TZID=America/New_York:20251125T180500
DTEND;TZID=America/New_York:20251125T180500
DTSTAMP:20260423T122611
CREATED:20251121T204412Z
LAST-MODIFIED:20251121T204537Z
UID:21407-1764093900-1764093900@www.oobmaine.com
SUMMARY:Town Council Special Meeting
DESCRIPTION:
URL:https://www.oobmaine.com/event/town-council-special-meeting-8/
LOCATION:Town Hall Council Chambers\, 1 Portland Ave\, Old orchard Beach\, ME\, 04064\, United States
CATEGORIES:Home Meeting
END:VEVENT
BEGIN:VEVENT
DTSTART;TZID=America/New_York:20251202T183000
DTEND;TZID=America/New_York:20251202T183000
DTSTAMP:20260423T122611
CREATED:20251126T184027Z
LAST-MODIFIED:20251126T184644Z
UID:21436-1764700200-1764700200@www.oobmaine.com
SUMMARY:Town Council Regular Meeting
DESCRIPTION:
URL:https://www.oobmaine.com/event/town-council-regular-meeting-41/
LOCATION:Town Hall Council Chambers\, 1 Portland Ave\, Old orchard Beach\, ME\, 04064\, United States
CATEGORIES:Home Meeting
END:VEVENT
BEGIN:VEVENT
DTSTART;TZID=America/New_York:20251208T190000
DTEND;TZID=America/New_York:20251208T190000
DTSTAMP:20260423T122611
CREATED:20251204T161400Z
LAST-MODIFIED:20251204T161400Z
UID:21458-1765220400-1765220400@www.oobmaine.com
SUMMARY:Conservation Commission Meeting 12.08.2025
DESCRIPTION:
URL:https://www.oobmaine.com/event/conservation-commission-meeting-12-08-2025/
LOCATION:Town Hall Council Chambers\, 1 Portland Ave\, Old orchard Beach\, ME\, 04064\, United States
CATEGORIES:Conservation Commission,Home Meeting,Public Meeting
END:VEVENT
BEGIN:VEVENT
DTSTART;TZID=America/New_York:20251209T183000
DTEND;TZID=America/New_York:20251209T183000
DTSTAMP:20260423T122611
CREATED:20251205T205316Z
LAST-MODIFIED:20251205T205409Z
UID:21464-1765305000-1765305000@www.oobmaine.com
SUMMARY:Town Council Regular Meeting
DESCRIPTION:
URL:https://www.oobmaine.com/event/town-council-regular-meeting-42/
LOCATION:Town Hall Council Chambers\, 1 Portland Ave\, Old orchard Beach\, ME\, 04064\, United States
CATEGORIES:Home Meeting
END:VEVENT
BEGIN:VEVENT
DTSTART;TZID=America/New_York:20251216T183000
DTEND;TZID=America/New_York:20251216T183000
DTSTAMP:20260423T122611
CREATED:20251212T211428Z
LAST-MODIFIED:20251212T212000Z
UID:21504-1765909800-1765909800@www.oobmaine.com
SUMMARY:Town Council Regular Meeting
DESCRIPTION:
URL:https://www.oobmaine.com/event/town-council-regular-meeting-43/
LOCATION:Town Hall Council Chambers\, 1 Portland Ave\, Old orchard Beach\, ME\, 04064\, United States
CATEGORIES:Home Meeting
END:VEVENT
BEGIN:VEVENT
DTSTART;TZID=America/New_York:20260106T183000
DTEND;TZID=America/New_York:20260106T183000
DTSTAMP:20260423T122611
CREATED:20260102T183859Z
LAST-MODIFIED:20260102T184225Z
UID:21610-1767724200-1767724200@www.oobmaine.com
SUMMARY:Town Council Regular Meeting
DESCRIPTION:
URL:https://www.oobmaine.com/event/town-council-regular-meeting-44/
LOCATION:Town Hall Council Chambers\, 1 Portland Ave\, Old orchard Beach\, ME\, 04064\, United States
CATEGORIES:Home Meeting
END:VEVENT
BEGIN:VEVENT
DTSTART;TZID=America/New_York:20260108T183000
DTEND;TZID=America/New_York:20260108T183000
DTSTAMP:20260423T122611
CREATED:20251231T152057Z
LAST-MODIFIED:20251231T152553Z
UID:21606-1767897000-1767897000@www.oobmaine.com
SUMMARY:Planning Board Meeting
DESCRIPTION:
URL:https://www.oobmaine.com/event/planning-board-meeting-5/
LOCATION:Town Hall Council Chambers\, 1 Portland Ave\, Old orchard Beach\, ME\, 04064\, United States
CATEGORIES:Home Meeting
END:VEVENT
BEGIN:VEVENT
DTSTART;TZID=America/New_York:20260120T183000
DTEND;TZID=America/New_York:20260120T183000
DTSTAMP:20260423T122611
CREATED:20260115T230059Z
LAST-MODIFIED:20260115T230326Z
UID:21684-1768933800-1768933800@www.oobmaine.com
SUMMARY:Town Council Regular Meeting
DESCRIPTION:
URL:https://www.oobmaine.com/event/town-council-regular-meeting-45/
LOCATION:Town Hall Council Chambers\, 1 Portland Ave\, Old orchard Beach\, ME\, 04064\, United States
CATEGORIES:Home Meeting
END:VEVENT
BEGIN:VEVENT
DTSTART;TZID=America/New_York:20260205T180000
DTEND;TZID=America/New_York:20260205T180000
DTSTAMP:20260423T122611
CREATED:20260202T152157Z
LAST-MODIFIED:20260202T152258Z
UID:21760-1770314400-1770314400@www.oobmaine.com
SUMMARY:Town Council Workshop
DESCRIPTION:
URL:https://www.oobmaine.com/event/town-council-workshop-18/
LOCATION:Town Hall Council Chambers\, 1 Portland Ave\, Old orchard Beach\, ME\, 04064\, United States
CATEGORIES:Home Meeting
END:VEVENT
BEGIN:VEVENT
DTSTART;TZID=America/New_York:20260217T183000
DTEND;TZID=America/New_York:20260217T183000
DTSTAMP:20260423T122611
CREATED:20260212T204458Z
LAST-MODIFIED:20260212T204550Z
UID:21843-1771353000-1771353000@www.oobmaine.com
SUMMARY:Town Council Regular Meeting
DESCRIPTION:
URL:https://www.oobmaine.com/event/town-council-regular-meeting-47/
LOCATION:Town Hall Council Chambers\, 1 Portland Ave\, Old orchard Beach\, ME\, 04064\, United States
CATEGORIES:Home Meeting,Town Council
END:VEVENT
BEGIN:VEVENT
DTSTART;TZID=America/New_York:20260223T183000
DTEND;TZID=America/New_York:20260223T183000
DTSTAMP:20260423T122611
CREATED:20260210T142420Z
LAST-MODIFIED:20260210T142420Z
UID:21806-1771871400-1771871400@www.oobmaine.com
SUMMARY:Zoning Board of Appeals Meeting 02.23.2026
DESCRIPTION:
URL:https://www.oobmaine.com/event/zoning-board-of-appeals-meeting-02-23-2026/
LOCATION:Town Hall Council Chambers\, 1 Portland Ave\, Old orchard Beach\, ME\, 04064\, United States
CATEGORIES:Home Meeting,Public Meeting,Zoning Board of Appeals
END:VEVENT
BEGIN:VEVENT
DTSTART;TZID=America/New_York:20260302T180000
DTEND;TZID=America/New_York:20260302T180000
DTSTAMP:20260423T122611
CREATED:20260224T162949Z
LAST-MODIFIED:20260224T162949Z
UID:21902-1772474400-1772474400@www.oobmaine.com
SUMMARY:Design Review Committee Meeting 03.02.2026
DESCRIPTION:
URL:https://www.oobmaine.com/event/design-review-committee-meeting-03-02-2026/
LOCATION:Town Hall Council Chambers\, 1 Portland Ave\, Old orchard Beach\, ME\, 04064\, United States
CATEGORIES:Design Review Board,Home Meeting,Public Meeting
END:VEVENT
BEGIN:VEVENT
DTSTART;TZID=America/New_York:20260303T183000
DTEND;TZID=America/New_York:20260303T183000
DTSTAMP:20260423T122611
CREATED:20260227T194834Z
LAST-MODIFIED:20260227T194928Z
UID:21919-1772562600-1772562600@www.oobmaine.com
SUMMARY:Town Council Regular Meeting
DESCRIPTION:
URL:https://www.oobmaine.com/event/town-council-regular-meeting-48/
LOCATION:Town Hall Council Chambers\, 1 Portland Ave\, Old orchard Beach\, ME\, 04064\, United States
CATEGORIES:Home Meeting
END:VEVENT
BEGIN:VEVENT
DTSTART;TZID=America/New_York:20260309T190000
DTEND;TZID=America/New_York:20260309T230000
DTSTAMP:20260423T122611
CREATED:20260303T140140Z
LAST-MODIFIED:20260303T140140Z
UID:21931-1773082800-1773097200@www.oobmaine.com
SUMMARY:Conservation Commission Meeting 03.09.2026
DESCRIPTION:
URL:https://www.oobmaine.com/event/conservation-commission-meeting-03-09-2026/
LOCATION:Town Hall Council Chambers\, 1 Portland Ave\, Old orchard Beach\, ME\, 04064\, United States
CATEGORIES:Conservation Commission,Home Meeting,Public Meeting
END:VEVENT
BEGIN:VEVENT
DTSTART;TZID=America/New_York:20260317T183000
DTEND;TZID=America/New_York:20260317T183000
DTSTAMP:20260423T122611
CREATED:20260313T183209Z
LAST-MODIFIED:20260313T183306Z
UID:21988-1773772200-1773772200@www.oobmaine.com
SUMMARY:Town Council Regular Meeting
DESCRIPTION:
URL:https://www.oobmaine.com/event/town-council-regular-meeting-49/
LOCATION:Town Hall Council Chambers\, 1 Portland Ave\, Old orchard Beach\, ME\, 04064\, United States
CATEGORIES:Home Meeting,Town Council
END:VEVENT
BEGIN:VEVENT
DTSTART;TZID=America/New_York:20260319T180000
DTEND;TZID=America/New_York:20260319T180000
DTSTAMP:20260423T122611
CREATED:20260309T132146Z
LAST-MODIFIED:20260309T132146Z
UID:21959-1773943200-1773943200@www.oobmaine.com
SUMMARY:Comprehensive Plan Committee Meeting 03.19.2026
DESCRIPTION:
URL:https://www.oobmaine.com/event/comprehensive-plan-committee-meeting-03-19-2026/
LOCATION:Police Community Room\, 16 E Emerson Cummings Blvd\, Old Orchard Beach\, ME\, 04064\, United States
CATEGORIES:Comprehensive Plan Committee,Home Meeting,Public Meeting
END:VEVENT
BEGIN:VEVENT
DTSTART;TZID=America/New_York:20260330T183000
DTEND;TZID=America/New_York:20260330T183000
DTSTAMP:20260423T122611
CREATED:20260319T154643Z
LAST-MODIFIED:20260319T155259Z
UID:22031-1774895400-1774895400@www.oobmaine.com
SUMMARY:Zoning Board of Appeals Meeting 03.30.2026
DESCRIPTION:
URL:https://www.oobmaine.com/event/zoning-board-of-appeals-meeting-03-30-2026/
LOCATION:Town Hall Council Chambers\, 1 Portland Ave\, Old orchard Beach\, ME\, 04064\, United States
CATEGORIES:Home Meeting,Public Meeting,Zoning Board of Appeals
END:VEVENT
END:VCALENDAR