BEGIN:VCALENDAR
VERSION:2.0
PRODID:-//Old Orchard Beach ME - ECPv6.15.17//NONSGML v1.0//EN
CALSCALE:GREGORIAN
METHOD:PUBLISH
X-WR-CALNAME:Old Orchard Beach ME
X-ORIGINAL-URL:https://www.oobmaine.com
X-WR-CALDESC:Events for Old Orchard Beach ME
REFRESH-INTERVAL;VALUE=DURATION:PT1H
X-Robots-Tag:noindex
X-PUBLISHED-TTL:PT1H
BEGIN:VTIMEZONE
TZID:America/New_York
BEGIN:DAYLIGHT
TZOFFSETFROM:-0500
TZOFFSETTO:-0400
TZNAME:EDT
DTSTART:19690427T070000
END:DAYLIGHT
BEGIN:STANDARD
TZOFFSETFROM:-0400
TZOFFSETTO:-0500
TZNAME:EST
DTSTART:19691026T060000
END:STANDARD
BEGIN:DAYLIGHT
TZOFFSETFROM:-0500
TZOFFSETTO:-0400
TZNAME:EDT
DTSTART:19700426T070000
END:DAYLIGHT
BEGIN:STANDARD
TZOFFSETFROM:-0400
TZOFFSETTO:-0500
TZNAME:EST
DTSTART:19701025T060000
END:STANDARD
BEGIN:DAYLIGHT
TZOFFSETFROM:-0500
TZOFFSETTO:-0400
TZNAME:EDT
DTSTART:19710425T070000
END:DAYLIGHT
BEGIN:STANDARD
TZOFFSETFROM:-0400
TZOFFSETTO:-0500
TZNAME:EST
DTSTART:19711031T060000
END:STANDARD
BEGIN:DAYLIGHT
TZOFFSETFROM:-0500
TZOFFSETTO:-0400
TZNAME:EDT
DTSTART:19720430T070000
END:DAYLIGHT
BEGIN:STANDARD
TZOFFSETFROM:-0400
TZOFFSETTO:-0500
TZNAME:EST
DTSTART:19721029T060000
END:STANDARD
BEGIN:DAYLIGHT
TZOFFSETFROM:-0500
TZOFFSETTO:-0400
TZNAME:EDT
DTSTART:19730429T070000
END:DAYLIGHT
BEGIN:STANDARD
TZOFFSETFROM:-0400
TZOFFSETTO:-0500
TZNAME:EST
DTSTART:19731028T060000
END:STANDARD
BEGIN:DAYLIGHT
TZOFFSETFROM:-0500
TZOFFSETTO:-0400
TZNAME:EDT
DTSTART:19740106T070000
END:DAYLIGHT
BEGIN:STANDARD
TZOFFSETFROM:-0400
TZOFFSETTO:-0500
TZNAME:EST
DTSTART:19741027T060000
END:STANDARD
BEGIN:DAYLIGHT
TZOFFSETFROM:-0500
TZOFFSETTO:-0400
TZNAME:EDT
DTSTART:19750223T070000
END:DAYLIGHT
BEGIN:STANDARD
TZOFFSETFROM:-0400
TZOFFSETTO:-0500
TZNAME:EST
DTSTART:19751026T060000
END:STANDARD
BEGIN:DAYLIGHT
TZOFFSETFROM:-0500
TZOFFSETTO:-0400
TZNAME:EDT
DTSTART:19760425T070000
END:DAYLIGHT
BEGIN:STANDARD
TZOFFSETFROM:-0400
TZOFFSETTO:-0500
TZNAME:EST
DTSTART:19761031T060000
END:STANDARD
BEGIN:DAYLIGHT
TZOFFSETFROM:-0500
TZOFFSETTO:-0400
TZNAME:EDT
DTSTART:19770424T070000
END:DAYLIGHT
BEGIN:STANDARD
TZOFFSETFROM:-0400
TZOFFSETTO:-0500
TZNAME:EST
DTSTART:19771030T060000
END:STANDARD
BEGIN:DAYLIGHT
TZOFFSETFROM:-0500
TZOFFSETTO:-0400
TZNAME:EDT
DTSTART:19780430T070000
END:DAYLIGHT
BEGIN:STANDARD
TZOFFSETFROM:-0400
TZOFFSETTO:-0500
TZNAME:EST
DTSTART:19781029T060000
END:STANDARD
BEGIN:DAYLIGHT
TZOFFSETFROM:-0500
TZOFFSETTO:-0400
TZNAME:EDT
DTSTART:19790429T070000
END:DAYLIGHT
BEGIN:STANDARD
TZOFFSETFROM:-0400
TZOFFSETTO:-0500
TZNAME:EST
DTSTART:19791028T060000
END:STANDARD
BEGIN:DAYLIGHT
TZOFFSETFROM:-0500
TZOFFSETTO:-0400
TZNAME:EDT
DTSTART:19800427T070000
END:DAYLIGHT
BEGIN:STANDARD
TZOFFSETFROM:-0400
TZOFFSETTO:-0500
TZNAME:EST
DTSTART:19801026T060000
END:STANDARD
BEGIN:DAYLIGHT
TZOFFSETFROM:-0500
TZOFFSETTO:-0400
TZNAME:EDT
DTSTART:19810426T070000
END:DAYLIGHT
BEGIN:STANDARD
TZOFFSETFROM:-0400
TZOFFSETTO:-0500
TZNAME:EST
DTSTART:19811025T060000
END:STANDARD
BEGIN:DAYLIGHT
TZOFFSETFROM:-0500
TZOFFSETTO:-0400
TZNAME:EDT
DTSTART:19820425T070000
END:DAYLIGHT
BEGIN:STANDARD
TZOFFSETFROM:-0400
TZOFFSETTO:-0500
TZNAME:EST
DTSTART:19821031T060000
END:STANDARD
BEGIN:DAYLIGHT
TZOFFSETFROM:-0500
TZOFFSETTO:-0400
TZNAME:EDT
DTSTART:19830424T070000
END:DAYLIGHT
BEGIN:STANDARD
TZOFFSETFROM:-0400
TZOFFSETTO:-0500
TZNAME:EST
DTSTART:19831030T060000
END:STANDARD
BEGIN:DAYLIGHT
TZOFFSETFROM:-0500
TZOFFSETTO:-0400
TZNAME:EDT
DTSTART:19840429T070000
END:DAYLIGHT
BEGIN:STANDARD
TZOFFSETFROM:-0400
TZOFFSETTO:-0500
TZNAME:EST
DTSTART:19841028T060000
END:STANDARD
BEGIN:DAYLIGHT
TZOFFSETFROM:-0500
TZOFFSETTO:-0400
TZNAME:EDT
DTSTART:19850428T070000
END:DAYLIGHT
BEGIN:STANDARD
TZOFFSETFROM:-0400
TZOFFSETTO:-0500
TZNAME:EST
DTSTART:19851027T060000
END:STANDARD
BEGIN:DAYLIGHT
TZOFFSETFROM:-0500
TZOFFSETTO:-0400
TZNAME:EDT
DTSTART:19860427T070000
END:DAYLIGHT
BEGIN:STANDARD
TZOFFSETFROM:-0400
TZOFFSETTO:-0500
TZNAME:EST
DTSTART:19861026T060000
END:STANDARD
BEGIN:DAYLIGHT
TZOFFSETFROM:-0500
TZOFFSETTO:-0400
TZNAME:EDT
DTSTART:19870405T070000
END:DAYLIGHT
BEGIN:STANDARD
TZOFFSETFROM:-0400
TZOFFSETTO:-0500
TZNAME:EST
DTSTART:19871025T060000
END:STANDARD
BEGIN:DAYLIGHT
TZOFFSETFROM:-0500
TZOFFSETTO:-0400
TZNAME:EDT
DTSTART:19880403T070000
END:DAYLIGHT
BEGIN:STANDARD
TZOFFSETFROM:-0400
TZOFFSETTO:-0500
TZNAME:EST
DTSTART:19881030T060000
END:STANDARD
BEGIN:DAYLIGHT
TZOFFSETFROM:-0500
TZOFFSETTO:-0400
TZNAME:EDT
DTSTART:19890402T070000
END:DAYLIGHT
BEGIN:STANDARD
TZOFFSETFROM:-0400
TZOFFSETTO:-0500
TZNAME:EST
DTSTART:19891029T060000
END:STANDARD
BEGIN:DAYLIGHT
TZOFFSETFROM:-0500
TZOFFSETTO:-0400
TZNAME:EDT
DTSTART:19900401T070000
END:DAYLIGHT
BEGIN:STANDARD
TZOFFSETFROM:-0400
TZOFFSETTO:-0500
TZNAME:EST
DTSTART:19901028T060000
END:STANDARD
BEGIN:DAYLIGHT
TZOFFSETFROM:-0500
TZOFFSETTO:-0400
TZNAME:EDT
DTSTART:19910407T070000
END:DAYLIGHT
BEGIN:STANDARD
TZOFFSETFROM:-0400
TZOFFSETTO:-0500
TZNAME:EST
DTSTART:19911027T060000
END:STANDARD
BEGIN:DAYLIGHT
TZOFFSETFROM:-0500
TZOFFSETTO:-0400
TZNAME:EDT
DTSTART:19920405T070000
END:DAYLIGHT
BEGIN:STANDARD
TZOFFSETFROM:-0400
TZOFFSETTO:-0500
TZNAME:EST
DTSTART:19921025T060000
END:STANDARD
BEGIN:DAYLIGHT
TZOFFSETFROM:-0500
TZOFFSETTO:-0400
TZNAME:EDT
DTSTART:19930404T070000
END:DAYLIGHT
BEGIN:STANDARD
TZOFFSETFROM:-0400
TZOFFSETTO:-0500
TZNAME:EST
DTSTART:19931031T060000
END:STANDARD
BEGIN:DAYLIGHT
TZOFFSETFROM:-0500
TZOFFSETTO:-0400
TZNAME:EDT
DTSTART:19940403T070000
END:DAYLIGHT
BEGIN:STANDARD
TZOFFSETFROM:-0400
TZOFFSETTO:-0500
TZNAME:EST
DTSTART:19941030T060000
END:STANDARD
BEGIN:DAYLIGHT
TZOFFSETFROM:-0500
TZOFFSETTO:-0400
TZNAME:EDT
DTSTART:19950402T070000
END:DAYLIGHT
BEGIN:STANDARD
TZOFFSETFROM:-0400
TZOFFSETTO:-0500
TZNAME:EST
DTSTART:19951029T060000
END:STANDARD
BEGIN:DAYLIGHT
TZOFFSETFROM:-0500
TZOFFSETTO:-0400
TZNAME:EDT
DTSTART:19960407T070000
END:DAYLIGHT
BEGIN:STANDARD
TZOFFSETFROM:-0400
TZOFFSETTO:-0500
TZNAME:EST
DTSTART:19961027T060000
END:STANDARD
BEGIN:DAYLIGHT
TZOFFSETFROM:-0500
TZOFFSETTO:-0400
TZNAME:EDT
DTSTART:19970406T070000
END:DAYLIGHT
BEGIN:STANDARD
TZOFFSETFROM:-0400
TZOFFSETTO:-0500
TZNAME:EST
DTSTART:19971026T060000
END:STANDARD
BEGIN:DAYLIGHT
TZOFFSETFROM:-0500
TZOFFSETTO:-0400
TZNAME:EDT
DTSTART:19980405T070000
END:DAYLIGHT
BEGIN:STANDARD
TZOFFSETFROM:-0400
TZOFFSETTO:-0500
TZNAME:EST
DTSTART:19981025T060000
END:STANDARD
BEGIN:DAYLIGHT
TZOFFSETFROM:-0500
TZOFFSETTO:-0400
TZNAME:EDT
DTSTART:19990404T070000
END:DAYLIGHT
BEGIN:STANDARD
TZOFFSETFROM:-0400
TZOFFSETTO:-0500
TZNAME:EST
DTSTART:19991031T060000
END:STANDARD
BEGIN:DAYLIGHT
TZOFFSETFROM:-0500
TZOFFSETTO:-0400
TZNAME:EDT
DTSTART:20000402T070000
END:DAYLIGHT
BEGIN:STANDARD
TZOFFSETFROM:-0400
TZOFFSETTO:-0500
TZNAME:EST
DTSTART:20001029T060000
END:STANDARD
BEGIN:DAYLIGHT
TZOFFSETFROM:-0500
TZOFFSETTO:-0400
TZNAME:EDT
DTSTART:20010401T070000
END:DAYLIGHT
BEGIN:STANDARD
TZOFFSETFROM:-0400
TZOFFSETTO:-0500
TZNAME:EST
DTSTART:20011028T060000
END:STANDARD
BEGIN:DAYLIGHT
TZOFFSETFROM:-0500
TZOFFSETTO:-0400
TZNAME:EDT
DTSTART:20020407T070000
END:DAYLIGHT
BEGIN:STANDARD
TZOFFSETFROM:-0400
TZOFFSETTO:-0500
TZNAME:EST
DTSTART:20021027T060000
END:STANDARD
BEGIN:DAYLIGHT
TZOFFSETFROM:-0500
TZOFFSETTO:-0400
TZNAME:EDT
DTSTART:20030406T070000
END:DAYLIGHT
BEGIN:STANDARD
TZOFFSETFROM:-0400
TZOFFSETTO:-0500
TZNAME:EST
DTSTART:20031026T060000
END:STANDARD
BEGIN:DAYLIGHT
TZOFFSETFROM:-0500
TZOFFSETTO:-0400
TZNAME:EDT
DTSTART:20040404T070000
END:DAYLIGHT
BEGIN:STANDARD
TZOFFSETFROM:-0400
TZOFFSETTO:-0500
TZNAME:EST
DTSTART:20041031T060000
END:STANDARD
BEGIN:DAYLIGHT
TZOFFSETFROM:-0500
TZOFFSETTO:-0400
TZNAME:EDT
DTSTART:20050403T070000
END:DAYLIGHT
BEGIN:STANDARD
TZOFFSETFROM:-0400
TZOFFSETTO:-0500
TZNAME:EST
DTSTART:20051030T060000
END:STANDARD
BEGIN:DAYLIGHT
TZOFFSETFROM:-0500
TZOFFSETTO:-0400
TZNAME:EDT
DTSTART:20060402T070000
END:DAYLIGHT
BEGIN:STANDARD
TZOFFSETFROM:-0400
TZOFFSETTO:-0500
TZNAME:EST
DTSTART:20061029T060000
END:STANDARD
BEGIN:DAYLIGHT
TZOFFSETFROM:-0500
TZOFFSETTO:-0400
TZNAME:EDT
DTSTART:20070311T070000
END:DAYLIGHT
BEGIN:STANDARD
TZOFFSETFROM:-0400
TZOFFSETTO:-0500
TZNAME:EST
DTSTART:20071104T060000
END:STANDARD
BEGIN:DAYLIGHT
TZOFFSETFROM:-0500
TZOFFSETTO:-0400
TZNAME:EDT
DTSTART:20080309T070000
END:DAYLIGHT
BEGIN:STANDARD
TZOFFSETFROM:-0400
TZOFFSETTO:-0500
TZNAME:EST
DTSTART:20081102T060000
END:STANDARD
BEGIN:DAYLIGHT
TZOFFSETFROM:-0500
TZOFFSETTO:-0400
TZNAME:EDT
DTSTART:20090308T070000
END:DAYLIGHT
BEGIN:STANDARD
TZOFFSETFROM:-0400
TZOFFSETTO:-0500
TZNAME:EST
DTSTART:20091101T060000
END:STANDARD
BEGIN:DAYLIGHT
TZOFFSETFROM:-0500
TZOFFSETTO:-0400
TZNAME:EDT
DTSTART:20100314T070000
END:DAYLIGHT
BEGIN:STANDARD
TZOFFSETFROM:-0400
TZOFFSETTO:-0500
TZNAME:EST
DTSTART:20101107T060000
END:STANDARD
BEGIN:DAYLIGHT
TZOFFSETFROM:-0500
TZOFFSETTO:-0400
TZNAME:EDT
DTSTART:20110313T070000
END:DAYLIGHT
BEGIN:STANDARD
TZOFFSETFROM:-0400
TZOFFSETTO:-0500
TZNAME:EST
DTSTART:20111106T060000
END:STANDARD
BEGIN:DAYLIGHT
TZOFFSETFROM:-0500
TZOFFSETTO:-0400
TZNAME:EDT
DTSTART:20120311T070000
END:DAYLIGHT
BEGIN:STANDARD
TZOFFSETFROM:-0400
TZOFFSETTO:-0500
TZNAME:EST
DTSTART:20121104T060000
END:STANDARD
BEGIN:DAYLIGHT
TZOFFSETFROM:-0500
TZOFFSETTO:-0400
TZNAME:EDT
DTSTART:20130310T070000
END:DAYLIGHT
BEGIN:STANDARD
TZOFFSETFROM:-0400
TZOFFSETTO:-0500
TZNAME:EST
DTSTART:20131103T060000
END:STANDARD
BEGIN:DAYLIGHT
TZOFFSETFROM:-0500
TZOFFSETTO:-0400
TZNAME:EDT
DTSTART:20140309T070000
END:DAYLIGHT
BEGIN:STANDARD
TZOFFSETFROM:-0400
TZOFFSETTO:-0500
TZNAME:EST
DTSTART:20141102T060000
END:STANDARD
BEGIN:DAYLIGHT
TZOFFSETFROM:-0500
TZOFFSETTO:-0400
TZNAME:EDT
DTSTART:20150308T070000
END:DAYLIGHT
BEGIN:STANDARD
TZOFFSETFROM:-0400
TZOFFSETTO:-0500
TZNAME:EST
DTSTART:20151101T060000
END:STANDARD
BEGIN:DAYLIGHT
TZOFFSETFROM:-0500
TZOFFSETTO:-0400
TZNAME:EDT
DTSTART:20160313T070000
END:DAYLIGHT
BEGIN:STANDARD
TZOFFSETFROM:-0400
TZOFFSETTO:-0500
TZNAME:EST
DTSTART:20161106T060000
END:STANDARD
BEGIN:DAYLIGHT
TZOFFSETFROM:-0500
TZOFFSETTO:-0400
TZNAME:EDT
DTSTART:20170312T070000
END:DAYLIGHT
BEGIN:STANDARD
TZOFFSETFROM:-0400
TZOFFSETTO:-0500
TZNAME:EST
DTSTART:20171105T060000
END:STANDARD
BEGIN:DAYLIGHT
TZOFFSETFROM:-0500
TZOFFSETTO:-0400
TZNAME:EDT
DTSTART:20180311T070000
END:DAYLIGHT
BEGIN:STANDARD
TZOFFSETFROM:-0400
TZOFFSETTO:-0500
TZNAME:EST
DTSTART:20181104T060000
END:STANDARD
BEGIN:DAYLIGHT
TZOFFSETFROM:-0500
TZOFFSETTO:-0400
TZNAME:EDT
DTSTART:20190310T070000
END:DAYLIGHT
BEGIN:STANDARD
TZOFFSETFROM:-0400
TZOFFSETTO:-0500
TZNAME:EST
DTSTART:20191103T060000
END:STANDARD
BEGIN:DAYLIGHT
TZOFFSETFROM:-0500
TZOFFSETTO:-0400
TZNAME:EDT
DTSTART:20200308T070000
END:DAYLIGHT
BEGIN:STANDARD
TZOFFSETFROM:-0400
TZOFFSETTO:-0500
TZNAME:EST
DTSTART:20201101T060000
END:STANDARD
BEGIN:DAYLIGHT
TZOFFSETFROM:-0500
TZOFFSETTO:-0400
TZNAME:EDT
DTSTART:20210314T070000
END:DAYLIGHT
BEGIN:STANDARD
TZOFFSETFROM:-0400
TZOFFSETTO:-0500
TZNAME:EST
DTSTART:20211107T060000
END:STANDARD
BEGIN:DAYLIGHT
TZOFFSETFROM:-0500
TZOFFSETTO:-0400
TZNAME:EDT
DTSTART:20220313T070000
END:DAYLIGHT
BEGIN:STANDARD
TZOFFSETFROM:-0400
TZOFFSETTO:-0500
TZNAME:EST
DTSTART:20221106T060000
END:STANDARD
BEGIN:DAYLIGHT
TZOFFSETFROM:-0500
TZOFFSETTO:-0400
TZNAME:EDT
DTSTART:20230312T070000
END:DAYLIGHT
BEGIN:STANDARD
TZOFFSETFROM:-0400
TZOFFSETTO:-0500
TZNAME:EST
DTSTART:20231105T060000
END:STANDARD
BEGIN:DAYLIGHT
TZOFFSETFROM:-0500
TZOFFSETTO:-0400
TZNAME:EDT
DTSTART:20240310T070000
END:DAYLIGHT
BEGIN:STANDARD
TZOFFSETFROM:-0400
TZOFFSETTO:-0500
TZNAME:EST
DTSTART:20241103T060000
END:STANDARD
BEGIN:DAYLIGHT
TZOFFSETFROM:-0500
TZOFFSETTO:-0400
TZNAME:EDT
DTSTART:20250309T070000
END:DAYLIGHT
BEGIN:STANDARD
TZOFFSETFROM:-0400
TZOFFSETTO:-0500
TZNAME:EST
DTSTART:20251102T060000
END:STANDARD
BEGIN:DAYLIGHT
TZOFFSETFROM:-0500
TZOFFSETTO:-0400
TZNAME:EDT
DTSTART:20260308T070000
END:DAYLIGHT
BEGIN:STANDARD
TZOFFSETFROM:-0400
TZOFFSETTO:-0500
TZNAME:EST
DTSTART:20261101T060000
END:STANDARD
BEGIN:DAYLIGHT
TZOFFSETFROM:-0500
TZOFFSETTO:-0400
TZNAME:EDT
DTSTART:20270314T070000
END:DAYLIGHT
BEGIN:STANDARD
TZOFFSETFROM:-0400
TZOFFSETTO:-0500
TZNAME:EST
DTSTART:20271107T060000
END:STANDARD
END:VTIMEZONE
BEGIN:VEVENT
DTSTART;TZID=America/New_York:20260319T180000
DTEND;TZID=America/New_York:20260319T180000
DTSTAMP:20260422T061506
CREATED:20260309T132146Z
LAST-MODIFIED:20260309T132146Z
UID:21959-1773943200-1773943200@www.oobmaine.com
SUMMARY:Comprehensive Plan Committee Meeting 03.19.2026
DESCRIPTION:
URL:https://www.oobmaine.com/event/comprehensive-plan-committee-meeting-03-19-2026/
LOCATION:Police Community Room\, 16 E Emerson Cummings Blvd\, Old Orchard Beach\, ME\, 04064\, United States
CATEGORIES:Comprehensive Plan Committee,Home Meeting,Public Meeting
END:VEVENT
BEGIN:VEVENT
DTSTART;TZID=America/New_York:20260224T180000
DTEND;TZID=America/New_York:20260224T180000
DTSTAMP:20260422T061506
CREATED:20260219T131703Z
LAST-MODIFIED:20260224T172705Z
UID:21884-1771956000-1771956000@www.oobmaine.com
SUMMARY:Comprehensive Plan Committee Meeting 02.24.2026 POSTPONED
DESCRIPTION:
URL:https://www.oobmaine.com/event/comprehensive-plan-committee-meeting-02-24-2026/
LOCATION:Town Hall Council Chambers\, 1 Portland Ave\, Old orchard Beach\, ME\, 04064\, United States
CATEGORIES:2026,2026,Comprehensive Plan Committee,Home Board,Public Meeting
END:VEVENT
BEGIN:VEVENT
DTSTART;TZID=America/New_York:20251120T180000
DTEND;TZID=America/New_York:20251120T180000
DTSTAMP:20260422T061506
CREATED:20251117T193323Z
LAST-MODIFIED:20251117T193323Z
UID:21367-1763661600-1763661600@www.oobmaine.com
SUMMARY:Comprehensive Plan Committee Meeting 11.20.2025
DESCRIPTION:
URL:https://www.oobmaine.com/event/comprehensive-plan-committee-meeting-11-20-2025/
LOCATION:Police Community Room\, 16 E Emerson Cummings Blvd\, Old Orchard Beach\, ME\, 04064\, United States
CATEGORIES:2025,Comprehensive Plan Committee,Home Commitee,Public Meeting
END:VEVENT
BEGIN:VEVENT
DTSTART;TZID=America/New_York:20251020T180000
DTEND;TZID=America/New_York:20251020T180000
DTSTAMP:20260422T061506
CREATED:20251009T143259Z
LAST-MODIFIED:20251009T143259Z
UID:21210-1760983200-1760983200@www.oobmaine.com
SUMMARY:Comprehensive Plan Committee Meeting 10.20.2025
DESCRIPTION:
URL:https://www.oobmaine.com/event/comprehensive-plan-committee-meeting-10-20-2025/
LOCATION:Town Hall Council Chambers\, 1 Portland Ave\, Old orchard Beach\, ME\, 04064\, United States
CATEGORIES:2025,Comprehensive Plan Committee,Home Board,Public Meeting
END:VEVENT
BEGIN:VEVENT
DTSTART;TZID=America/New_York:20251001T180000
DTEND;TZID=America/New_York:20251001T180000
DTSTAMP:20260422T061506
CREATED:20250923T183610Z
LAST-MODIFIED:20250923T183610Z
UID:21147-1759341600-1759341600@www.oobmaine.com
SUMMARY:Comprehensive Plan Committee Meeting 10.01.2025
DESCRIPTION:
URL:https://www.oobmaine.com/event/comprehensive-plan-committee-meeting-10-01-2025/
LOCATION:Town Hall Council Chambers\, 1 Portland Ave\, Old orchard Beach\, ME\, 04064\, United States
CATEGORIES:Comprehensive Plan Committee,Home Meeting,Public Meeting
END:VEVENT
BEGIN:VEVENT
DTSTART;TZID=America/New_York:20250807T180000
DTEND;TZID=America/New_York:20250807T180000
DTSTAMP:20260422T061506
CREATED:20250728T143424Z
LAST-MODIFIED:20250728T143424Z
UID:20913-1754589600-1754589600@www.oobmaine.com
SUMMARY:Comprehensive Plan Committee Meeting 08.07.2025 moved from 07.31.2025
DESCRIPTION:
URL:https://www.oobmaine.com/event/comprehensive-plan-committee-meeting-08-07-2025-moved-from-07-31-2025/
LOCATION:Town Hall Council Chambers\, 1 Portland Ave\, Old orchard Beach\, ME\, 04064\, United States
CATEGORIES:Comprehensive Plan Committee,Home Meeting,Public Meeting
END:VEVENT
BEGIN:VEVENT
DTSTART;TZID=America/New_York:20250626T180000
DTEND;TZID=America/New_York:20250626T180000
DTSTAMP:20260422T061506
CREATED:20250620T150512Z
LAST-MODIFIED:20250620T150512Z
UID:20811-1750960800-1750960800@www.oobmaine.com
SUMMARY:Comprehensive Plan Committee Meeting 06.26.2025
DESCRIPTION:
URL:https://www.oobmaine.com/event/comprehensive-plan-committee-meeting-06-26-2025/
LOCATION:Town Hall Council Chambers\, 1 Portland Ave\, Old orchard Beach\, ME\, 04064\, United States
CATEGORIES:2025,Comprehensive Plan Committee,Home Meeting,Public Meeting
END:VEVENT
BEGIN:VEVENT
DTSTART;TZID=America/New_York:20250327T180000
DTEND;TZID=America/New_York:20250327T180000
DTSTAMP:20260422T061506
CREATED:20250324T141840Z
LAST-MODIFIED:20250324T142101Z
UID:20323-1743098400-1743098400@www.oobmaine.com
SUMMARY:Comprehensive Plan Committee Meeting 03.27.2025
DESCRIPTION:
URL:https://www.oobmaine.com/event/comprehensive-plan-committee-meeting-03-27-2025/
LOCATION:Town Hall Council Chambers\, 1 Portland Ave\, Old orchard Beach\, ME\, 04064\, United States
CATEGORIES:2025,Comprehensive Plan Committee,Home Board,Public Meeting
END:VEVENT
BEGIN:VEVENT
DTSTART;TZID=America/New_York:20250227T180000
DTEND;TZID=America/New_York:20250227T180000
DTSTAMP:20260422T061506
CREATED:20250221T165218Z
LAST-MODIFIED:20250221T165218Z
UID:20172-1740679200-1740679200@www.oobmaine.com
SUMMARY:Comprehensive Plan Committee meeting 02.27.2025
DESCRIPTION:
URL:https://www.oobmaine.com/event/comprehensive-plan-committee-meeting-02-27-2025/
LOCATION:Town Hall Council Chambers\, 1 Portland Ave\, Old orchard Beach\, ME\, 04064\, United States
CATEGORIES:Comprehensive Plan Committee,Home Board,Public Meeting
END:VEVENT
BEGIN:VEVENT
DTSTART;TZID=America/New_York:20250130T180000
DTEND;TZID=America/New_York:20250130T180000
DTSTAMP:20260422T061506
CREATED:20250123T144528Z
LAST-MODIFIED:20250130T134443Z
UID:20038-1738260000-1738260000@www.oobmaine.com
SUMMARY:*CANCELLED* Comprehensive Plan Committee Meeting 01.30.2025 *CANCELLED*
DESCRIPTION:
URL:https://www.oobmaine.com/event/comprehensive-plan-committee-meeting-01-30-2025/
LOCATION:Town Hall Council Chambers\, 1 Portland Ave\, Old orchard Beach\, ME\, 04064\, United States
CATEGORIES:Comprehensive Plan Committee,Home Meeting,Public Meeting
END:VEVENT
BEGIN:VEVENT
DTSTART;TZID=America/New_York:20240731T180000
DTEND;TZID=America/New_York:20240731T180000
DTSTAMP:20260422T061506
CREATED:20240725T183350Z
LAST-MODIFIED:20240725T183350Z
UID:19334-1722448800-1722448800@www.oobmaine.com
SUMMARY:Comprehensive Plan Committee Meeting 07.31.2024
DESCRIPTION:
URL:https://www.oobmaine.com/event/comprehensive-plan-committee-meeting-07-31-2024/
LOCATION:Town Hall Council Chambers\, 1 Portland Ave\, Old orchard Beach\, ME\, 04064\, United States
CATEGORIES:Comprehensive Plan Committee,Home Commitee,Public Meeting
END:VEVENT
BEGIN:VEVENT
DTSTART;TZID=America/New_York:20240626T180000
DTEND;TZID=America/New_York:20240626T180000
DTSTAMP:20260422T061506
CREATED:20240621T141815Z
LAST-MODIFIED:20240621T141815Z
UID:19238-1719424800-1719424800@www.oobmaine.com
SUMMARY:Comprehensive Plan Committee Meeting 06.26.2024
DESCRIPTION:
URL:https://www.oobmaine.com/event/comprehensive-plan-committee-meeting-06-26-2024/
LOCATION:Town Hall Council Chambers\, 1 Portland Ave\, Old orchard Beach\, ME\, 04064\, United States
CATEGORIES:2024,Comprehensive Plan Committee,Home Board,Public Meeting
END:VEVENT
BEGIN:VEVENT
DTSTART;TZID=America/New_York:20240515T180000
DTEND;TZID=America/New_York:20240515T180000
DTSTAMP:20260422T061506
CREATED:20240507T183909Z
LAST-MODIFIED:20240507T183909Z
UID:18937-1715796000-1715796000@www.oobmaine.com
SUMMARY:Comprehensive Plan Committee Meeting 05.15.2024
DESCRIPTION:
URL:https://www.oobmaine.com/event/comprehensive-plan-committee-meeting-05-15-2024/
LOCATION:Town Hall Council Chambers\, 1 Portland Ave\, Old orchard Beach\, ME\, 04064\, United States
CATEGORIES:2024,Comprehensive Plan Committee,Home Meeting,Public Meeting
END:VEVENT
BEGIN:VEVENT
DTSTART;TZID=America/New_York:20240501T180000
DTEND;TZID=America/New_York:20240501T180000
DTSTAMP:20260422T061506
CREATED:20240423T123547Z
LAST-MODIFIED:20240423T123547Z
UID:18836-1714586400-1714586400@www.oobmaine.com
SUMMARY:Comprehensive Planning Committee Meeting 05.01.2024
DESCRIPTION:
URL:https://www.oobmaine.com/event/comprehensive-planning-committee-meeting-05-01-2024/
LOCATION:Town Hall Council Chambers\, 1 Portland Ave\, Old orchard Beach\, ME\, 04064\, United States
CATEGORIES:Comprehensive Plan Committee,Home Commitee,Public Meeting
END:VEVENT
BEGIN:VEVENT
DTSTART;TZID=America/New_York:20240409T180000
DTEND;TZID=America/New_York:20240409T180000
DTSTAMP:20260422T061506
CREATED:20240402T214527Z
LAST-MODIFIED:20240402T214527Z
UID:18678-1712685600-1712685600@www.oobmaine.com
SUMMARY:Comprehensive Plan Committee Meeting 04.09.2024
DESCRIPTION:
URL:https://www.oobmaine.com/event/comprehensive-plan-committee-meeting-04-09-2024/
LOCATION:Police Community Room\, 16 E Emerson Cummings Blvd\, Old Orchard Beach\, ME\, 04064\, United States
CATEGORIES:Comprehensive Plan Committee,Home Meeting,Public Meeting
END:VEVENT
BEGIN:VEVENT
DTSTART;TZID=America/New_York:20240320T180000
DTEND;TZID=America/New_York:20240320T180000
DTSTAMP:20260422T061506
CREATED:20240314T165954Z
LAST-MODIFIED:20240314T165954Z
UID:18529-1710957600-1710957600@www.oobmaine.com
SUMMARY:Comprehensive Plan Committee Meeting 03.20.2024
DESCRIPTION:
URL:https://www.oobmaine.com/event/comprehensive-plan-committee-meeting-03-20-2024/
LOCATION:Town Hall Council Chambers\, 1 Portland Ave\, Old orchard Beach\, ME\, 04064\, United States
CATEGORIES:Comprehensive Plan Committee,Home Commitee,Public Meeting
END:VEVENT
BEGIN:VEVENT
DTSTART;TZID=America/New_York:20240215T180000
DTEND;TZID=America/New_York:20240215T180000
DTSTAMP:20260422T061506
CREATED:20240208T140016Z
LAST-MODIFIED:20240208T140016Z
UID:18377-1708020000-1708020000@www.oobmaine.com
SUMMARY:Comprehensive Plan Committee Meeting 02.15.2024
DESCRIPTION:
URL:https://www.oobmaine.com/event/comprehensive-plan-committee-meeting-02-15-2024/
LOCATION:Police Community Room\, 16 E Emerson Cummings Blvd\, Old Orchard Beach\, ME\, 04064\, United States
CATEGORIES:Comprehensive Plan Committee,Home Commitee,Public Meeting
END:VEVENT
BEGIN:VEVENT
DTSTART;TZID=America/New_York:20240125T180000
DTEND;TZID=America/New_York:20240125T180000
DTSTAMP:20260422T061506
CREATED:20240116T202304Z
LAST-MODIFIED:20240116T202304Z
UID:18268-1706205600-1706205600@www.oobmaine.com
SUMMARY:Comprehensive Plan Committee Meeting 01.25.24
DESCRIPTION:
URL:https://www.oobmaine.com/event/comprehensive-plan-committee-meeting-01-25-24/
LOCATION:Town Hall Council Chambers\, 1 Portland Ave\, Old orchard Beach\, ME\, 04064\, United States
CATEGORIES:Comprehensive Plan Committee,Home Commitee,Public Meeting
END:VEVENT
BEGIN:VEVENT
DTSTART;TZID=America/New_York:20231129T180000
DTEND;TZID=America/New_York:20231129T200000
DTSTAMP:20260422T061506
CREATED:20231120T221527Z
LAST-MODIFIED:20231120T221527Z
UID:17965-1701280800-1701288000@www.oobmaine.com
SUMMARY:Comprehensive Plan Committee Meeting 11.29.2023
DESCRIPTION:
URL:https://www.oobmaine.com/event/comprehensive-plan-committee-meeting-11-29-2023/
LOCATION:Town Hall Council Chambers\, 1 Portland Ave\, Old orchard Beach\, ME\, 04064\, United States
CATEGORIES:Comprehensive Plan Committee,Home Meeting,Public Meeting
END:VEVENT
BEGIN:VEVENT
DTSTART;TZID=America/New_York:20231018T180000
DTEND;TZID=America/New_York:20231018T210000
DTSTAMP:20260422T061506
CREATED:20231011T174612Z
LAST-MODIFIED:20231011T174612Z
UID:17780-1697652000-1697662800@www.oobmaine.com
SUMMARY:Comprehensive Planning Committee meeting
DESCRIPTION:
URL:https://www.oobmaine.com/event/comprehensive-planning-committee-meeting/
LOCATION:Police Community Room\, 16 E Emerson Cummings Blvd\, Old Orchard Beach\, ME\, 04064\, United States
CATEGORIES:Comprehensive Plan Committee,Home Commitee,Public Meeting
END:VEVENT
BEGIN:VEVENT
DTSTART;TZID=America/New_York:20201116T180000
DTEND;TZID=America/New_York:20211008T170000
DTSTAMP:20260422T061506
CREATED:20211008T080921Z
LAST-MODIFIED:20221202T060128Z
UID:1809-1605549600-1633712400@www.oobmaine.com
SUMMARY:CANCELLED Comprehensive Plan Committee Meeting
DESCRIPTION:
URL:https://www.oobmaine.com/event/cancelled-comprehensive-plan-committee-meeting/
LOCATION:ME
CATEGORIES:Comprehensive Plan Committee
END:VEVENT
BEGIN:VEVENT
DTSTART;TZID=America/New_York:20200220T180000
DTEND;TZID=America/New_York:20211009T170000
DTSTAMP:20260422T061506
CREATED:20211009T062914Z
LAST-MODIFIED:20221202T060128Z
UID:2200-1582221600-1633798800@www.oobmaine.com
SUMMARY:Comprehensive Plan Committee Meeting
DESCRIPTION:
URL:https://www.oobmaine.com/event/comprehensive-plan-committee-meeting/
LOCATION:ME
CATEGORIES:Comprehensive Plan Committee
END:VEVENT
BEGIN:VEVENT
DTSTART;TZID=America/New_York:20200130T180000
DTEND;TZID=America/New_York:20211009T170000
DTSTAMP:20260422T061506
CREATED:20211009T100845Z
LAST-MODIFIED:20221202T060128Z
UID:2369-1580407200-1633798800@www.oobmaine.com
SUMMARY:Comprehensive Plan Committee Meeting
DESCRIPTION:
URL:https://www.oobmaine.com/event/comprehensive-plan-committee-meeting-3/
LOCATION:ME
CATEGORIES:Comprehensive Plan Committee
END:VEVENT
BEGIN:VEVENT
DTSTART;TZID=America/New_York:20200116T180000
DTEND;TZID=America/New_York:20211009T170000
DTSTAMP:20260422T061506
CREATED:20211009T100430Z
LAST-MODIFIED:20221202T060128Z
UID:2355-1579197600-1633798800@www.oobmaine.com
SUMMARY:Comprehensive Plan Committee Meeting
DESCRIPTION:
URL:https://www.oobmaine.com/event/comprehensive-plan-committee-meeting-2/
LOCATION:ME
CATEGORIES:Comprehensive Plan Committee
END:VEVENT
BEGIN:VEVENT
DTSTART;TZID=America/New_York:20191121T180000
DTEND;TZID=America/New_York:20211011T170000
DTSTAMP:20260422T061506
CREATED:20211011T054805Z
LAST-MODIFIED:20221202T060128Z
UID:2429-1574359200-1633971600@www.oobmaine.com
SUMMARY:Comprehensive Plan Committee Meeting
DESCRIPTION:
URL:https://www.oobmaine.com/event/comprehensive-plan-committee-meeting-4/
LOCATION:ME
CATEGORIES:Comprehensive Plan Committee
END:VEVENT
BEGIN:VEVENT
DTSTART;TZID=America/New_York:20190910T180000
DTEND;TZID=America/New_York:20211011T170000
DTSTAMP:20260422T061506
CREATED:20211011T062645Z
LAST-MODIFIED:20221202T060128Z
UID:2492-1568138400-1633971600@www.oobmaine.com
SUMMARY:Comprehensive Plan Committee Meeting
DESCRIPTION:
URL:https://www.oobmaine.com/event/comprehensive-plan-committee-meeting-5/
LOCATION:ME
CATEGORIES:Comprehensive Plan Committee
END:VEVENT
BEGIN:VEVENT
DTSTART;TZID=America/New_York:20190813T180000
DTEND;TZID=America/New_York:20211012T170000
DTSTAMP:20260422T061506
CREATED:20211012T045242Z
LAST-MODIFIED:20221202T060128Z
UID:2599-1565719200-1634058000@www.oobmaine.com
SUMMARY:Comprehensive Plan Committee Meeting
DESCRIPTION:
URL:https://www.oobmaine.com/event/comprehensive-plan-committee-meeting-7/
LOCATION:ME
CATEGORIES:Comprehensive Plan Committee
END:VEVENT
BEGIN:VEVENT
DTSTART;TZID=America/New_York:20190724T180000
DTEND;TZID=America/New_York:20211012T170000
DTSTAMP:20260422T061506
CREATED:20211012T091841Z
LAST-MODIFIED:20221202T060128Z
UID:2818-1563991200-1634058000@www.oobmaine.com
SUMMARY:Comprehensive Plan Committee Meeting
DESCRIPTION:
URL:https://www.oobmaine.com/event/comprehensive-plan-committee-meeting-8/
LOCATION:ME
CATEGORIES:Comprehensive Plan Committee
END:VEVENT
BEGIN:VEVENT
DTSTART;TZID=America/New_York:20260422T061506
DTEND;TZID=America/New_York:20211011T170000
DTSTAMP:20260422T061506
CREATED:20211011T064839Z
LAST-MODIFIED:20221202T060128Z
UID:2522-0-1633971600@www.oobmaine.com
SUMMARY:Comprehensive Plan Committee Meeting
DESCRIPTION:
URL:https://www.oobmaine.com/event/comprehensive-plan-committee-meeting-6/
LOCATION:ME
CATEGORIES:Comprehensive Plan Committee
END:VEVENT
END:VCALENDAR