BEGIN:VCALENDAR
VERSION:2.0
PRODID:-//Old Orchard Beach ME - ECPv6.15.17//NONSGML v1.0//EN
CALSCALE:GREGORIAN
METHOD:PUBLISH
X-WR-CALNAME:Old Orchard Beach ME
X-ORIGINAL-URL:https://www.oobmaine.com
X-WR-CALDESC:Events for Old Orchard Beach ME
REFRESH-INTERVAL;VALUE=DURATION:PT1H
X-Robots-Tag:noindex
X-PUBLISHED-TTL:PT1H
BEGIN:VTIMEZONE
TZID:America/New_York
BEGIN:DAYLIGHT
TZOFFSETFROM:-0500
TZOFFSETTO:-0400
TZNAME:EDT
DTSTART:20240310T070000
END:DAYLIGHT
BEGIN:STANDARD
TZOFFSETFROM:-0400
TZOFFSETTO:-0500
TZNAME:EST
DTSTART:20241103T060000
END:STANDARD
BEGIN:DAYLIGHT
TZOFFSETFROM:-0500
TZOFFSETTO:-0400
TZNAME:EDT
DTSTART:20250309T070000
END:DAYLIGHT
BEGIN:STANDARD
TZOFFSETFROM:-0400
TZOFFSETTO:-0500
TZNAME:EST
DTSTART:20251102T060000
END:STANDARD
BEGIN:DAYLIGHT
TZOFFSETFROM:-0500
TZOFFSETTO:-0400
TZNAME:EDT
DTSTART:20260308T070000
END:DAYLIGHT
BEGIN:STANDARD
TZOFFSETFROM:-0400
TZOFFSETTO:-0500
TZNAME:EST
DTSTART:20261101T060000
END:STANDARD
END:VTIMEZONE
BEGIN:VEVENT
DTSTART;TZID=America/New_York:20250731T214500
DTEND;TZID=America/New_York:20250731T214500
DTSTAMP:20260419T085704
CREATED:20250319T141130Z
LAST-MODIFIED:20250319T141130Z
UID:20306-1753998300-1753998300@www.oobmaine.com
SUMMARY:Palace Playland and the Pier Fireworks 07.31.2025
DESCRIPTION:Fireworks on the beach in front of Palace Playland at 9:45 p.m.  FMI:  www.palaceplayland.com
URL:https://www.oobmaine.com/event/palace-playland-and-the-pier-fireworks-07-31-2025/
LOCATION:Beach in front of Palace Playland\, 1 Old Orchard Street\, Old Orchard Beach\, 04064\, United States
CATEGORIES:Special Event
END:VEVENT
END:VCALENDAR